BEGIN:VCALENDAR
VERSION:2.0
CALSCALE:GREGORIAN
METHOD:PUBLISH
PRODID://CEC//196766
BEGIN:VEVENT
DTSTAMP:20260419T155157
VTIMEZONE:America/New_York
DTSTART:20251019T150000Z
DTEND:20251019T190000Z
UID:196766
SUMMARY:KBR Kids Day
LOCATION:The Water Works in Buffalo Bayou Park, (105B Sabine Street), TX
DESCRIPTION:KBR Kids Day\n\n10/19/25 11:00 AM EST\n - 10/19/25 03:00 PM EST\Description:\nIt is that time of year! We are gearing up for our 18th Annual KBR Kids Day!  Because Tony Marron Park is under construction, we are hosting this event near downtown at Buffalo Bayou Park (above the Cistern and next to the Lee & Joe Jamail Skatepark) and on a Sunday!  Hope you can join!\Location:\nThe Water Works in Buffalo Bayou Park\n(105B Sabine Street)\n, TX
X-ALT-DESC;FMTTYPE=text/html:KBR Kids Day<br /><br />10/19/25 11:00 AM EST - 10/19/25 03:00 PM EST<br />Description:<br />It is that time of year! We are gearing up for our 18th Annual <a href="https://buffalobayou.org/event/2025-kbr-kids-day/" target="_blank"><strong>KBR Kids Day!</strong></a> &nbsp;Because Tony Marron Park is under construction, we are hosting this event near downtown at Buffalo Bayou Park (above the Cistern and next to the Lee &amp; Joe Jamail Skatepark) and on a <strong>Sunday!</strong> &nbsp;Hope you can join!<br />Location:<br />The Water Works in Buffalo Bayou Park<br />(105B Sabine Street)<br />, TX 
PRIORITY:3
TRANSP:TRANSPARENT
BEGIN:VALARM
TRIGGER:-PT5M
ACTION:DISPLAY
DESCRIPTION:Reminder
END:VALARM
END:VEVENT
END:VCALENDAR
