BEGIN:VCALENDAR
VERSION:2.0
CALSCALE:GREGORIAN
METHOD:PUBLISH
PRODID://CEC//197026
BEGIN:VEVENT
DTSTAMP:20260419T154503
VTIMEZONE:America/New_York
DTSTART:20251106T233000Z
DTEND:20251107T033000Z
UID:197026
SUMMARY:Buffalo Bayou Partnership Gala: Milestones in Motion
LOCATION:The Water Works in Buffalo Bayou Park, 105-B Sabine Street, Houston, TX, 77007
DESCRIPTION:Buffalo Bayou Partnership Gala: Milestones in Motion\n\n11/06/25 06:30 PM EST\n - 11/06/25 10:30 PM EST\Description:\nJoin Buffalo Bayou Partnership for this year’s Gala on Thursday, November 6th, a memorable evening outdoors at Buffalo Bayou Park to celebrate the organization’s Milestones in Motion.  Guests will enjoy cocktails and a seated dinner underneath a spectacular tent on the lawn with stunning views of downtown Houston, all in support of BBP’s forward motion towards a more connected and welcoming waterfront.\n\nThis year, BBP is marking many important milestones—from the 10th anniversary of the transformation of Buffalo Bayou Park to significant progress creating parks and trails along the waterway east of downtown. Your support of this year’s Gala will allow Buffalo Bayou Partnership to continue creating and caring for a vital green space network along the bayou and lay the groundwork for many exciting milestones still to come.\n\nIndividual tickets begin at $650; Tables of 10 begin at $6,500.\n\nEvent webpage: https://buffalobayou.org/event/2025-buffalo-bayou-partnership-gala/\n\nTickets and tables: https://app.etapestry.com/onlineforms/BuffaloBayouPartnership/Gala25.html\n\nFor more information or questions please reach out to August Bishop at abishop@buffalobayou.org.\Location:\nThe Water Works in Buffalo Bayou Park\n105-B Sabine Street\nHouston, TX 77007
X-ALT-DESC;FMTTYPE=text/html:Buffalo Bayou Partnership Gala: Milestones in Motion<br /><br />11/06/25 06:30 PM EST - 11/06/25 10:30 PM EST<br />Description:<br />Join Buffalo Bayou Partnership for this year&rsquo;s Gala on Thursday, November 6th, a memorable evening outdoors at Buffalo Bayou Park to celebrate the organization&rsquo;s Milestones in Motion. &nbsp;Guests will enjoy cocktails and a seated dinner underneath a spectacular tent on the lawn with stunning views of downtown Houston, all in support of BBP&rsquo;s forward motion towards a more connected and welcoming waterfront.<br />
<br />
This year, BBP is marking many important milestones&mdash;from the 10th anniversary of the transformation of Buffalo Bayou Park to significant progress creating parks and trails along the waterway east of downtown. Your support of this year&rsquo;s Gala will allow Buffalo Bayou Partnership to continue creating and caring for a vital green space network along the bayou and lay the groundwork for many exciting milestones still to come.<br />
<br />
Individual tickets begin at $650; Tables of 10 begin at $6,500.<br />
<br />
Event webpage: <a href="https://buffalobayou.org/event/2025-buffalo-bayou-partnership-gala/" target="_blank">https://buffalobayou.org/event/2025-buffalo-bayou-partnership-gala/</a><br />
<br />
Tickets and tables: <a href="https://app.etapestry.com/onlineforms/BuffaloBayouPartnership/Gala25.html" target="_blank">https://app.etapestry.com/onlineforms/BuffaloBayouPartnership/Gala25.html</a><br />
<br />
For more information or questions please reach out to August Bishop at <a href="mailto:abishop@buffalobayou.org">abishop@buffalobayou.org.</a><br />Location:<br />The Water Works in Buffalo Bayou Park<br />105-B Sabine Street<br />Houston, TX 77007
PRIORITY:3
TRANSP:TRANSPARENT
BEGIN:VALARM
TRIGGER:-PT5M
ACTION:DISPLAY
DESCRIPTION:Reminder
END:VALARM
END:VEVENT
END:VCALENDAR
