BEGIN:VCALENDAR
VERSION:2.0
CALSCALE:GREGORIAN
METHOD:PUBLISH
PRODID://CEC//197047
BEGIN:VEVENT
DTSTAMP:20260419T135907
VTIMEZONE:America/New_York
DTSTART:20250927T150000Z
DTEND:20250927T190000Z
UID:197047
SUMMARY:Repair Cafe
LOCATION:West University Branch Library, 6108 Auden St, Houston, TX, 77005
DESCRIPTION:Repair Cafe\n\n09/27/25 11:00 AM EST\n - 09/27/25 03:00 PM EST\Description:\nBring your broken items to our Repair Café, where various volunteer repair coaches are on hand to help repair your items free of charge. We have tools and commonly needed materials on hand during the event. We cannot guarantee that we will be able to fix everything, but we are pretty sure you will have a good time while you are here.Some examples of potential items that can be fixed include:\n\n	Electrical items: Lamps; hair dryers; plug, switch and power cord repairs; clocks; fans; games and toys.\n	Clothes and Textiles: Replace buttons; patch holes or tears; mend blankets and quilts; minor doll or stuffed animal repair.\n\nFor those who would like to sign up to have items repaired, please register here:\nHCPL Repair Café Participants Registration Form\n\nParticipant Walk-Ins are welcomed as well.\Location:\nWest University Branch Library\n6108 Auden St\nHouston, TX 77005
X-ALT-DESC;FMTTYPE=text/html:Repair Cafe<br /><br />09/27/25 11:00 AM EST - 09/27/25 03:00 PM EST<br />Description:<br />Bring your broken items to our Repair Caf&eacute;, where various volunteer repair coaches are on hand to help repair your items free of charge. We have tools and commonly needed materials on hand during the event. We cannot guarantee that we will be able to fix everything, but we are pretty sure you will have a good time while you are here.Some examples of potential items that can be fixed include:
<ul>
	<li>Electrical items: Lamps; hair dryers; plug, switch and power cord repairs; clocks; fans; games and toys.</li>
	<li>Clothes and Textiles: Replace buttons; patch holes or tears; mend blankets and quilts; minor doll or stuffed animal repair.</li>
</ul>
<strong>For those who would like to sign up to have items repaired, please register here:<br />
<a href="https://docs.google.com/forms/d/e/1FAIpQLSeBDIONh4TdrW5I3cpZUvcU1hoFhNkFcpSCa1fUAcOb2biWtQ/viewform?pli=1" target="_blank">HCPL Repair Caf&eacute; Participants Registration Form</a><br />
<br />
Participant Walk-Ins are welcomed as well.</strong><br />Location:<br />West University Branch Library<br />6108 Auden St<br />Houston, TX 77005
PRIORITY:3
TRANSP:TRANSPARENT
BEGIN:VALARM
TRIGGER:-PT5M
ACTION:DISPLAY
DESCRIPTION:Reminder
END:VALARM
END:VEVENT
END:VCALENDAR
