BEGIN:VCALENDAR
VERSION:2.0
CALSCALE:GREGORIAN
METHOD:PUBLISH
PRODID://CEC//197534
BEGIN:VEVENT
DTSTAMP:20260419T133805
VTIMEZONE:America/New_York
DTSTART:20251203T210000Z
DTEND:20251204T000000Z
UID:197534
SUMMARY:First Wednesday Market with Hope Farms
LOCATION:, 10401 Scott St, Houston, TX, 77051
DESCRIPTION:First Wednesday Market with Hope Farms\n\n12/03/25 04:00 PM EST\n - 12/03/25 07:00 PM EST\Description:\nFresh Produce, local vendors, meet the farmer, children's activities, gardening tips, and free yoga!\Location:\n\n10401 Scott St\nHouston, TX 77051
X-ALT-DESC;FMTTYPE=text/html:First Wednesday Market with Hope Farms<br /><br />12/03/25 04:00 PM EST - 12/03/25 07:00 PM EST<br />Description:<br />Fresh Produce, local vendors, meet the farmer, children's activities, gardening tips, and free yoga!<br />Location:<br /><br />10401 Scott St<br />Houston, TX 77051
PRIORITY:3
TRANSP:TRANSPARENT
BEGIN:VALARM
TRIGGER:-PT5M
ACTION:DISPLAY
DESCRIPTION:Reminder
END:VALARM
END:VEVENT
END:VCALENDAR
