BEGIN:VCALENDAR
VERSION:2.0
CALSCALE:GREGORIAN
METHOD:PUBLISH
PRODID://CEC//197610
BEGIN:VEVENT
DTSTAMP:20260419T133848
VTIMEZONE:America/New_York
DTSTART:20250906T140000Z
DTEND:20250906T160000Z
UID:197610
SUMMARY:First Saturday Bolivar Flats Beach Rambles
LOCATION:Bolivar Flats Shorebird Sanctuary, TX
DESCRIPTION:First Saturday Bolivar Flats Beach Rambles\n\n09/06/25 10:00 AM EST\n - 09/06/25 12:00 PM EST\Description:\nCome explore Bolivar Flats Shorebird Sanctuary and see what the forces of nature have left for us on the beach and in the wrack lines with Conservation Specialist Wyatt Egelhoff. You’ll walk along the beach and out onto the flats discovering the diversity of life along the gulf coast. It's a perfect opportunity for a family day trip. Ride the Galveston ferry, see dolphins, birds, shellfish and learn about coastal ecosystems. This program is FREE, suitable for all ages and runs on the first Saturday of each month. Please register so we'll know how many are coming. We meet at 10:00 AM at the vehicular barrier. Take TX-87 to Rettilon Rd. Turn right at the beach and travel 3/4 mile. Hope to see you there!\n\nParking: Parking stickers are REQUIRED for all vehicles to park on Bolivar beaches. They can be purchased locally for $10.\Location:\nBolivar Flats Shorebird Sanctuary\n\n, TX
X-ALT-DESC;FMTTYPE=text/html:First Saturday Bolivar Flats Beach Rambles<br /><br />09/06/25 10:00 AM EST - 09/06/25 12:00 PM EST<br />Description:<br />Come explore Bolivar Flats Shorebird Sanctuary and see what the forces of nature have left for us on the beach and in the wrack lines with Conservation Specialist Wyatt Egelhoff. You&rsquo;ll walk along the beach and out onto the flats discovering the diversity of life along the gulf coast. It's a perfect opportunity for a family day trip. Ride the Galveston ferry, see dolphins, birds, shellfish and learn about coastal ecosystems. This program is FREE, suitable for all ages and runs on the first Saturday of each month. Please register so we'll know how many are coming. We meet at 10:00 AM at the vehicular barrier. Take TX-87 to Rettilon Rd. Turn right at the beach and travel 3/4 mile. Hope to see you there!<br />
<br />
<strong>Parking: </strong>Parking stickers are REQUIRED for all vehicles to park on Bolivar beaches. They can be purchased locally for $10.<br />Location:<br />Bolivar Flats Shorebird Sanctuary<br /><br />, TX 
PRIORITY:3
TRANSP:TRANSPARENT
BEGIN:VALARM
TRIGGER:-PT5M
ACTION:DISPLAY
DESCRIPTION:Reminder
END:VALARM
END:VEVENT
END:VCALENDAR
