BEGIN:VCALENDAR
VERSION:2.0
CALSCALE:GREGORIAN
METHOD:PUBLISH
PRODID://CEC//197615
BEGIN:VEVENT
DTSTAMP:20260419T133827
VTIMEZONE:America/New_York
DTSTART:20251004T140000Z
DTEND:20251004T150000Z
UID:197615
SUMMARY:Marine Debris Survey
LOCATION:, 438 Boddeker Rd, Galveston, TX, 77550
DESCRIPTION:Marine Debris Survey\n\n10/04/25 10:00 AM EST\n - 10/04/25 11:00 AM EST\Description:\nThe Marine Debris Survey event is a NOAA program adopted by Turtle Island Restoration Network. We have registered a 100 meter plot of beach at East Beach that we will be cleaning and recording the type of trash collected. Think beach cleanup but with more detailed procedures. Anyone and everyone is welcome (there is a distance of walking involved, minimum of 100 ft)!\n\nSurveys will be the first Saturday of every month.\n\nFor more information, contact mhuette@seaturtles.org.\n\nRSVP here.\Location:\n\n438 Boddeker Rd\nGalveston, TX 77550
X-ALT-DESC;FMTTYPE=text/html:Marine Debris Survey<br /><br />10/04/25 10:00 AM EST - 10/04/25 11:00 AM EST<br />Description:<br />The Marine Debris Survey event is a NOAA program adopted by Turtle Island Restoration Network. We have registered a 100 meter plot of beach at East Beach that we will be cleaning and recording the type of trash collected. Think beach cleanup but with more detailed procedures. Anyone and everyone is welcome (there is a distance of walking involved, minimum of 100 ft)!<br />
<br />
Surveys will be the first Saturday of every month.<br />
<br />
For more information, contact <a href="mailto:mhuette@seaturtles.org">mhuette@seaturtles.org.</a><br />
<br />
<a href="https://www.eventbrite.com/e/marine-debris-survey-tickets-577655512187?utm_medium=email&amp;utm_source=GovDelivery" target="_blank"><strong>RSVP here.</strong></a><br />Location:<br /><br />438 Boddeker Rd<br />Galveston, TX 77550
PRIORITY:3
TRANSP:TRANSPARENT
BEGIN:VALARM
TRIGGER:-PT5M
ACTION:DISPLAY
DESCRIPTION:Reminder
END:VALARM
END:VEVENT
END:VCALENDAR
