BEGIN:VCALENDAR
VERSION:2.0
CALSCALE:GREGORIAN
METHOD:PUBLISH
PRODID://CEC//197633
BEGIN:VEVENT
DTSTAMP:20260419T133803
VTIMEZONE:America/New_York
DTSTART:20251013T223000Z
DTEND:20251014T003000Z
UID:197633
SUMMARY:Native Plant Society of Texas Clear Lake Chapter Meeting
LOCATION:, TX
DESCRIPTION:Native Plant Society of Texas Clear Lake Chapter Meeting\n\n10/13/25 06:30 PM EST\n - 10/13/25 08:30 PM EST\Description:\nPlease join us for our chapter meeting on Zoom!\n\n6:35 Meeting open for socializing\n6:45 Business Meeting\n6:55 Plant of the Month\n7:00 Guest Speaker\n\nRegister here.
X-ALT-DESC;FMTTYPE=text/html:Native Plant Society of Texas Clear Lake Chapter Meeting<br /><br />10/13/25 06:30 PM EST - 10/13/25 08:30 PM EST<br />Description:<br />Please join us for our chapter meeting on Zoom!<br />
<br />
6:35 Meeting open for socializing<br />
6:45 Business Meeting<br />
6:55 Plant of the Month<br />
7:00 Guest Speaker<br />
<br />
Register <a href="https://www.npsot.org/chapters/clearlake/" target="_blank">here</a>.
PRIORITY:3
TRANSP:TRANSPARENT
BEGIN:VALARM
TRIGGER:-PT5M
ACTION:DISPLAY
DESCRIPTION:Reminder
END:VALARM
END:VEVENT
END:VCALENDAR
