BEGIN:VCALENDAR
VERSION:2.0
CALSCALE:GREGORIAN
METHOD:PUBLISH
PRODID://CEC//197638
BEGIN:VEVENT
DTSTAMP:20260419T133850
VTIMEZONE:America/New_York
DTSTART:20251110T233000Z
DTEND:20251111T003000Z
UID:197638
SUMMARY:Houston Urban Gardeners Monthly Talk
LOCATION:West Gray Recreation Center, 1475 W Gray St, Houston, TX, 77019
DESCRIPTION:Houston Urban Gardeners Monthly Talk\n\n11/10/25 06:30 PM EST\n - 11/10/25 07:30 PM EST\Description:\nLearn how to grow some of your own food. Quarterly "what to grow now" so you know what to plant when in our year round gardening climate. Fruit trees, edible natives, soil health, tips from local farmers & more. 2nd Monday of each month. Check website &/or subscribe to newsletter at houstonurbangardeners.org. Follow our Facebook page or join our discussion group.\Location:\nWest Gray Recreation Center\n1475 W Gray St\nHouston, TX 77019
X-ALT-DESC;FMTTYPE=text/html:Houston Urban Gardeners Monthly Talk<br /><br />11/10/25 06:30 PM EST - 11/10/25 07:30 PM EST<br />Description:<br />Learn how to grow some of your own food. Quarterly &quot;what to grow now&quot; so you know what to plant when in our year round gardening climate. Fruit trees, edible natives, soil health, tips from local farmers &amp; more. 2nd Monday of each month. Check website &amp;/or subscribe to newsletter at <strong><a href="http://houstonurbangardeners.org/" target="_blank">houstonurbangardeners.org</a></strong>. Follow our <a href="https://www.facebook.com/houstonurbangardener" target="_blank"><strong>Facebook</strong></a> page or join our <strong><a href="https://www.facebook.com/groups/houstonurbanfarmers" target="_blank">discussion group.</a></strong><br />Location:<br />West Gray Recreation Center<br />1475 W Gray St<br />Houston, TX 77019
PRIORITY:3
TRANSP:TRANSPARENT
BEGIN:VALARM
TRIGGER:-PT5M
ACTION:DISPLAY
DESCRIPTION:Reminder
END:VALARM
END:VEVENT
END:VCALENDAR
