BEGIN:VCALENDAR
VERSION:2.0
CALSCALE:GREGORIAN
METHOD:PUBLISH
PRODID://CEC//197773
BEGIN:VEVENT
DTSTAMP:20260419T133639
VTIMEZONE:America/New_York
DTSTART:20251113T233000Z
DTEND:20251114T003000Z
UID:197773
SUMMARY:Lone Star Sierra Club Zoom Event: Keep the Power On Community Meetup Photo of Francis Blake
LOCATION:, TX
DESCRIPTION:Lone Star Sierra Club Zoom Event: Keep the Power On Community Meetup Photo of Francis Blake\n\n11/13/25 06:30 PM EST\n - 11/13/25 07:30 PM EST\Description:\nLone Star Sierra Club Zoom Meeting:\n"Keep the Power On Community Meetup: Keep the Pressure On"\nThursday, July 10, 6:30 - 7:30pm, CT\n\nLink to register:\nMeeting Registration - Zoom\n\nEnergy, climate, justice, and social issues are inextricably linked in the fight for a just society. Everyday Texans are struggling to pay their bills, our water and our air is polluted with toxic chemicals, and our "leaders" continuously put profit and political power over the needs of people and planet.\n\nWe’ll start off with a legislative recap, discuss current news and events, build power and community, and plan upcoming actions to win important changes in Texas.\n\nGovernor Abbott has failed Texans, and we deserve a clean, reliable, and affordable electric grid. RSVP for our monthly virtual KTPO Community Meetups to join your neighbors and community members across Texas to strengthen and expand the campaign. Together, we can win a safer, cleaner, more resilient, and more affordable energy grid.
X-ALT-DESC;FMTTYPE=text/html:Lone Star Sierra Club Zoom Event: Keep the Power On Community Meetup Photo of Francis Blake<br /><br />11/13/25 06:30 PM EST - 11/13/25 07:30 PM EST<br />Description:<br /><strong>Lone Star Sierra Club Zoom Meeting:<br />
&quot;Keep the Power On Community Meetup: Keep the Pressure On&quot;<br />
Thursday, July 10, 6:30 - 7:30pm, CT<br />
<br />
Link to register:<br />
<a href="https://www.google.com/url?q=https%3A%2F%2Fsierraclub.zoom.us%2Fmeeting%2Fregister%2FtJApcuiqrTkoHNT6y8K9oV7pd4DMTCPvOMV6%23%2Fregistration&amp;sa=D&amp;source=calendar&amp;ust=1756812180000000&amp;usg=AOvVaw2EqSLsdblVQyZ3uHYbSe4s" target="_blank">Meeting Registration - Zoom</a><br />
<br />
Energy, climate, justice, and social issues are inextricably linked in the fight for a just society.</strong> Everyday Texans are struggling to pay their bills, our water and our air is polluted with toxic chemicals, and our &quot;leaders&quot; continuously put profit and political power over the needs of people and planet.<br />
<br />
We&rsquo;ll start off with a legislative recap, discuss current news and events, build power and community, and plan upcoming actions to win important changes in Texas.<br />
<br />
Governor Abbott has failed Texans, <strong>and we deserve a clean, reliable, and affordable electric grid. </strong>RSVP for our monthly virtual KTPO Community Meetups to join your neighbors and community members across Texas to strengthen and expand the campaign. <strong>Together, we can win a safer, cleaner, more resilient, and more affordable energy grid.</strong>
PRIORITY:3
TRANSP:TRANSPARENT
BEGIN:VALARM
TRIGGER:-PT5M
ACTION:DISPLAY
DESCRIPTION:Reminder
END:VALARM
END:VEVENT
END:VCALENDAR
