BEGIN:VCALENDAR
VERSION:2.0
CALSCALE:GREGORIAN
METHOD:PUBLISH
PRODID://CEC//197777
BEGIN:VEVENT
DTSTAMP:20260419T133806
VTIMEZONE:America/New_York
DTSTART:20251114T000000Z
DTEND:20251114T010000Z
UID:197777
SUMMARY:Keep Pearland Beautiful Garden Lecture
LOCATION:Facebook, TX
DESCRIPTION:Keep Pearland Beautiful Garden Lecture\n\n11/13/25 07:00 PM EST\n - 11/13/25 08:00 PM EST\Description:\nThe KPB Garden Lecture series promotes best practices in home garden development and management. The lectures are instructed by Brazoria County Master Gardener experts. Topics include selected home gardening and conservation practices. Lectures are held at 7 p.m. on the second Thursday of every month and are currently broadcast live on Keep Pearland Beautiful's Facebook page.\n\nThere is no charge or registration needed for these educational garden lectures. View recordings of the lectures on our website of YouTube channel. After the Garden Lecture please take the time to complete our survey. to give your feedback and to receive a PDF copy of the presentation and other educational topics.\Location:\nFacebook\n\n, TX
X-ALT-DESC;FMTTYPE=text/html:Keep Pearland Beautiful Garden Lecture<br /><br />11/13/25 07:00 PM EST - 11/13/25 08:00 PM EST<br />Description:<br />The KPB Garden Lecture series promotes best practices in home garden development and management. The lectures are instructed by Brazoria County Master Gardener experts. Topics include selected home gardening and conservation practices. Lectures are held at 7 p.m. on the second Thursday of every month and are currently broadcast live on Keep Pearland Beautiful's<a href="https://www.google.com/url?q=https%3A%2F%2Fwww.facebook.com%2Fkeeppearlandbeautiful&amp;sa=D&amp;source=calendar&amp;ust=1756812180000000&amp;usg=AOvVaw1T65_sOjq0iKoLC_wlmrrv" target="_blank"> Facebook page.</a><br />
<br />
There is no charge or registration needed for these educational garden lectures. View recordings of the lectures on our website of YouTube channel. After the Garden Lecture please take the time to complete our survey. to give your feedback and to receive a PDF copy of the presentation and other educational topics.<br />Location:<br />Facebook<br /><br />, TX 
PRIORITY:3
TRANSP:TRANSPARENT
BEGIN:VALARM
TRIGGER:-PT5M
ACTION:DISPLAY
DESCRIPTION:Reminder
END:VALARM
END:VEVENT
END:VCALENDAR
