BEGIN:VCALENDAR
VERSION:2.0
CALSCALE:GREGORIAN
METHOD:PUBLISH
PRODID://CEC//197806
BEGIN:VEVENT
DTSTAMP:20260419T133851
VTIMEZONE:America/New_York
DTSTART:20251213T130000Z
DTEND:20251213T150000Z
UID:197806
SUMMARY:Second Saturday Bird Survey
LOCATION:Houston Arboretum & Nature Center, 4501 Woodway Dr, Houston, TX, 77024
DESCRIPTION:Second Saturday Bird Survey\n\n12/13/25 08:00 AM EST\n - 12/13/25 10:00 AM EST\Description:\nWork on your bird watching skills while helping the Arboretum monitor bird populations on a fun, relaxed morning walk. Join us on the second Saturday of each month in the courtyard behind the building for a two-hour bird survey led by Arboretum staff members, Kelsey Low and Theo Ostler. We welcome all levels of bird watching skill and all ages (as long as you’re quiet) – but no dogs, please! If you have binoculars of your own, please bring them. We have a limited number of binoculars available to borrow.\n\n2nd Saturday of the month\n8:00 – 10:00 am\nFree, but donations appreciated\nInstructors: Kelsey Low & Theo Ostler\Location:\nHouston Arboretum & Nature Center\n4501 Woodway Dr\nHouston, TX 77024
X-ALT-DESC;FMTTYPE=text/html:Second Saturday Bird Survey<br /><br />12/13/25 08:00 AM EST - 12/13/25 10:00 AM EST<br />Description:<br />Work on your bird watching skills while helping the Arboretum monitor bird populations on a fun, relaxed morning walk. Join us on the second Saturday of each month in the courtyard behind the building for a two-hour bird survey led by Arboretum staff members, Kelsey Low and Theo Ostler. We welcome all levels of bird watching skill and all ages (as long as you&rsquo;re quiet) &ndash; but no dogs, please! If you have binoculars of your own, please bring them. We have a limited number of binoculars available to borrow.<br />
<br />
2nd Saturday of the month<br />
8:00 &ndash; 10:00 am<br />
Free, but donations appreciated<br />
Instructors: Kelsey Low &amp; Theo Ostler<br />Location:<br />Houston Arboretum & Nature Center<br />4501 Woodway Dr<br />Houston, TX 77024
PRIORITY:3
TRANSP:TRANSPARENT
BEGIN:VALARM
TRIGGER:-PT5M
ACTION:DISPLAY
DESCRIPTION:Reminder
END:VALARM
END:VEVENT
END:VCALENDAR
