BEGIN:VCALENDAR
VERSION:2.0
CALSCALE:GREGORIAN
METHOD:PUBLISH
PRODID://CEC//197807
BEGIN:VEVENT
DTSTAMP:20260419T133716
VTIMEZONE:America/New_York
DTSTART:20250913T130000Z
DTEND:20250913T160000Z
UID:197807
SUMMARY:Stewardship Saturday - Coastal Prairie Conservancy
LOCATION:Coastal Prairie Conservancy, Indiangrass Preserve, 31975 Hebert Rd, Waller, TX, 77484
DESCRIPTION:Stewardship Saturday - Coastal Prairie Conservancy\n\n09/13/25 09:00 AM EST\n - 09/13/25 12:00 PM EST\Description:\nLooking for a way to get your hands dirty and help the prairie? Come join us for a STEWARDSHIP SATURDAY! Volunteers help manage invasive species, plant native plants, and restore prairie habitats.\n\nAll ages are welcome to participate - no experience necessary! \n\nPhysical Requirements: Bending, kneeling, or sitting on the ground; some light lifting.\n\nWhat to wear: Closed-toe shoes, tall socks, long pants, long-sleeved shirt, hat.\n\nWhat to bring: Reusable water bottle, gardening gloves (or we have pairs to borrow). All other tools are provided.\n\n\n\n\nREGISTER HERE\Location:\nCoastal Prairie Conservancy, Indiangrass Preserve\n31975 Hebert Rd\nWaller, TX 77484
X-ALT-DESC;FMTTYPE=text/html:Stewardship Saturday - Coastal Prairie Conservancy<br /><br />09/13/25 09:00 AM EST - 09/13/25 12:00 PM EST<br />Description:<br />Looking for a way to get your hands dirty and help the prairie? Come join us for a STEWARDSHIP SATURDAY! Volunteers help manage invasive species, plant native plants, and restore prairie habitats.<br />
<br />
All ages are welcome to participate - no experience necessary!&nbsp;<br />
<br />
<strong>Physical Requirements:</strong> Bending, kneeling, or sitting on the ground; some light lifting.<br />
<br />
<strong>What to wear: </strong>Closed-toe shoes, tall socks, long pants, long-sleeved shirt, hat.<br />
<br />
<strong>What to bring:</strong> Reusable water bottle, gardening gloves (or we have pairs to borrow). All other tools are provided.<br />
<br />
<br />
<br />
<br />
<a href="https://lp.constantcontactpages.com/ev/reg/db75tfn" target="_blank">REGISTER HERE</a><br />Location:<br />Coastal Prairie Conservancy, Indiangrass Preserve<br />31975 Hebert Rd<br />Waller, TX 77484
PRIORITY:3
TRANSP:TRANSPARENT
BEGIN:VALARM
TRIGGER:-PT5M
ACTION:DISPLAY
DESCRIPTION:Reminder
END:VALARM
END:VEVENT
END:VCALENDAR
