BEGIN:VCALENDAR
VERSION:2.0
CALSCALE:GREGORIAN
METHOD:PUBLISH
PRODID://CEC//197814
BEGIN:VEVENT
DTSTAMP:20260419T133552
VTIMEZONE:America/New_York
DTSTART:20251213T150000Z
DTEND:20251213T160000Z
UID:197814
SUMMARY:Marine Debris Survey with Turtle Island Rescue Network
LOCATION:, 438 Boddeker Rd, TX
DESCRIPTION:Marine Debris Survey with Turtle Island Rescue Network\n\n12/13/25 10:00 AM EST\n - 12/13/25 11:00 AM EST\Location:\n\n438 Boddeker Rd\n, TX
X-ALT-DESC;FMTTYPE=text/html:Marine Debris Survey with Turtle Island Rescue Network<br /><br />12/13/25 10:00 AM EST - 12/13/25 11:00 AM EST<br />Location:<br /><br />438 Boddeker Rd<br />, TX 
PRIORITY:3
TRANSP:TRANSPARENT
BEGIN:VALARM
TRIGGER:-PT5M
ACTION:DISPLAY
DESCRIPTION:Reminder
END:VALARM
END:VEVENT
END:VCALENDAR
