BEGIN:VCALENDAR
VERSION:2.0
CALSCALE:GREGORIAN
METHOD:PUBLISH
PRODID://CEC//197866
BEGIN:VEVENT
DTSTAMP:20260419T133553
VTIMEZONE:America/New_York
DTSTART:20251217T233000Z
DTEND:20251218T010000Z
UID:197866
SUMMARY:Bay Area Sierra Club Meeting
LOCATION:Zoom, TX
DESCRIPTION:Bay Area Sierra Club Meeting\n\n12/17/25 06:30 PM EST\n - 12/17/25 08:00 PM EST\Description:\nStarts 6:30 pm for social time; 7:00 pm for program.\nJoin Zoom meeting using this link:\nhttps://us02web.zoom.us/j/4168201898?pwd=MzBpZ2hvUVFMckw4anlldTh6Tkh3dz09\n \nJULY 19 PROGRAM:\n\n\nAAH on Houston Area chemical disasters and air quality issues.\n\nInyang Uwak, Policy and Research Director at Air Alliance Houston (AAH) will discuss area chemical disasters and air quality issues, as well as the AAH air permit tracking tool AirMail.\n \nRelated links: \n\nDr. Inyang Uwak - Air Alliance Houston\nAir Monitoring - Air Alliance Houston\nAirMail (aah-airmail.org)\n \nSubmit questions to bayareasierraclubhouston@gmail.com\Location:\nZoom\n\n, TX
X-ALT-DESC;FMTTYPE=text/html:Bay Area Sierra Club Meeting<br /><br />12/17/25 06:30 PM EST - 12/17/25 08:00 PM EST<br />Description:<br />Starts 6:30 pm for social time; 7:00 pm for program.<br />
Join Zoom meeting using this link:<br />
<a href="https://us02web.zoom.us/j/4168201898?pwd=MzBpZ2hvUVFMckw4anlldTh6Tkh3dz09#success" target="_blank">https://us02web.zoom.us/j/4168201898?pwd=MzBpZ2hvUVFMckw4anlldTh6Tkh3dz09</a><br />
&nbsp;<br />
JULY 19 PROGRAM:<br />
<br />
<br />
<strong>AAH on Houston Area chemical disasters and air quality issues.</strong><br />
<br />
Inyang Uwak, Policy and Research Director at Air Alliance Houston (AAH) will discuss area chemical disasters and air quality issues, as well as the AAH air permit tracking tool AirMail.<br />
&nbsp;<br />
Related links:&nbsp;<br />
<br />
<a href="https://airalliancehouston.org/our-work/our-team/inyang-uwak/" target="_blank">Dr. Inyang Uwak - Air Alliance Houston</a><br />
<a href="https://airalliancehouston.org/air-monitoring/" target="_blank">Air Monitoring - Air Alliance Houston</a><br />
<a href="https://aah-airmail.org/app/notices" target="_blank">AirMail (aah-airmail.org)</a><br />
&nbsp;<br />
Submit questions to <a href="mailto:bayareasierraclubhouston@gmail.com">bayareasierraclubhouston@gmail.com</a><br />Location:<br />Zoom<br /><br />, TX 
PRIORITY:3
TRANSP:TRANSPARENT
BEGIN:VALARM
TRIGGER:-PT5M
ACTION:DISPLAY
DESCRIPTION:Reminder
END:VALARM
END:VEVENT
END:VCALENDAR
