BEGIN:VCALENDAR
VERSION:2.0
CALSCALE:GREGORIAN
METHOD:PUBLISH
PRODID://CEC//197871
BEGIN:VEVENT
DTSTAMP:20260419T222634
VTIMEZONE:America/New_York
DTSTART:20251219T000000Z
DTEND:20251219T010000Z
UID:197871
SUMMARY:Native Plant Society of Texas - Houston Chapter
LOCATION:Houston Arboretum & Nature Center, 120 W Loop N Fwy, Houston, TX, 77024
DESCRIPTION:Native Plant Society of Texas - Houston Chapter\n\n12/18/25 07:00 PM EST\n - 12/18/25 08:00 PM EST\Description:\nTopic: Attwater Prairie Chicken Refuge\nwith Meredith Haley, Wildlife Refuge Specialist\n\nAttwater Prairie Chicken National Wildlife Refuge was established to protect the critically endangered Attwater’s Prairie-Chicken, a ground-dwelling grouse of the coastal prairie ecosystem. Located approximately 60 miles west of Houston, Texas, this refuge is home to one of the largest remnants of native coastal prairie remaining in southeast Texas. Although the refuge was established for the benefit of the prairie-chicken, the refuge is host or home to many other wildlife species found on this prairie.\n\nNote: We will be streaming live via this Zoom link, but we cannot promise that our speaker will stay in front of the microphone the whole time.\Location:\nHouston Arboretum & Nature Center\n120 W Loop N Fwy\nHouston, TX 77024
X-ALT-DESC;FMTTYPE=text/html:Native Plant Society of Texas - Houston Chapter<br /><br />12/18/25 07:00 PM EST - 12/18/25 08:00 PM EST<br />Description:<br />Topic: Attwater Prairie Chicken Refuge<br />
<em>with Meredith Haley, Wildlife Refuge Specialist</em><br />
<br />
Attwater Prairie Chicken National Wildlife Refuge was established to protect the critically endangered Attwater&rsquo;s Prairie-Chicken, a ground-dwelling grouse of the coastal prairie ecosystem. Located approximately 60 miles west of Houston, Texas, this refuge is home to one of the largest remnants of native coastal prairie remaining in southeast Texas. Although the refuge was established for the benefit of the prairie-chicken, the refuge is host or home to many other wildlife species found on this prairie.<br />
<br />
<strong>Note: </strong>We will be streaming live via <a href="https://us02web.zoom.us/meeting/register/tZcqfu6gqDsoEtB68trfPOAEsedGXO7uwSl9" target="_blank"><strong>this Zoom link</strong></a>, but we cannot promise that our speaker will stay in front of the microphone the whole time.<br />Location:<br />Houston Arboretum & Nature Center<br />120 W Loop N Fwy<br />Houston, TX 77024
PRIORITY:3
TRANSP:TRANSPARENT
BEGIN:VALARM
TRIGGER:-PT5M
ACTION:DISPLAY
DESCRIPTION:Reminder
END:VALARM
END:VEVENT
END:VCALENDAR
