BEGIN:VCALENDAR
VERSION:2.0
CALSCALE:GREGORIAN
METHOD:PUBLISH
PRODID://CEC//197889
BEGIN:VEVENT
DTSTAMP:20260419T133624
VTIMEZONE:America/New_York
DTSTART:20250919T143000Z
DTEND:20250919T153000Z
UID:197889
SUMMARY:Story Time in the Garden
LOCATION:Houston Botanic Garden, 1 Botanic Lane, Houston, TX, 77017
DESCRIPTION:Story Time in the Garden\n\n09/19/25 10:30 AM EST\n - 09/19/25 11:30 AM EST\Description:\nOn the third Friday of each month, our friends at the Park Place Regional Library will present a story time in the Garden at 10:30 a.m. Children of all ages and their parents / care-givers are invited.\n\n50 free admissions are available for each storytime, on a first-come, first-served basis. Registration is required\Location:\nHouston Botanic Garden\n1 Botanic Lane\nHouston, TX 77017
X-ALT-DESC;FMTTYPE=text/html:Story Time in the Garden<br /><br />09/19/25 10:30 AM EST - 09/19/25 11:30 AM EST<br />Description:<br />On the third Friday of each month, our friends at the Park Place Regional Library will present a story time in the Garden at 10:30 a.m. Children of all ages and their parents / care-givers are invited.<br />
<br />
50 free admissions are available for each storytime, on a first-come, first-served basis. <a href="https://hbg.org/event/storytime-in-the-garden-5/" target="_blank">Registration</a> is required<br />Location:<br />Houston Botanic Garden<br />1 Botanic Lane<br />Houston, TX 77017
PRIORITY:3
TRANSP:TRANSPARENT
BEGIN:VALARM
TRIGGER:-PT5M
ACTION:DISPLAY
DESCRIPTION:Reminder
END:VALARM
END:VEVENT
END:VCALENDAR
