BEGIN:VCALENDAR
VERSION:2.0
CALSCALE:GREGORIAN
METHOD:PUBLISH
PRODID://CEC//197918
BEGIN:VEVENT
DTSTAMP:20260419T133623
VTIMEZONE:America/New_York
DTSTART:20251027T230000Z
DTEND:20251028T000000Z
UID:197918
SUMMARY:Cool Congregations Cohort
LOCATION:, TX
DESCRIPTION:Cool Congregations Cohort\n\n10/27/25 07:00 PM EST\n - 10/27/25 08:00 PM EST\Description:\nFaith communities of all faith/spiritual traditions are invited to join the Cool Congregations Cohort in 2025. The cohort will meet monthly online throughout the year, and the facilitator will work with you to accomplish two goals during the course of the year: (1) develop a plan to reduce your faith community’s carbon footprint by 50% by 2030 (in line with goals sent by climate scientists) and (2) incorporate care for the earth into all aspects of your faith community’s life. The cohort facilitator, who has decades of experience in “greening” of faith communities, will give individualized attention to the 10 faith communities that participate, helping them to discover ways to both reduce their carbon footprint and renew their faith community’s commitment to care for the earth. Participating faith communities will also learn from each other’s experiences and support each other throughout the program. This program is organized by the Interfaith Environmental Network of Houston, a Houston affiliate of the Texas chapter of Interfaith Power &amp; Light, but is open to any faith community that would like to participate, and is not restricted to Houston- nor Texas-based faith communities. Please register your faith community at www.eventbrite.com at https://www.eventbrite.com/e/2025-cool-congregations-cohort-tickets-1106765247649 (only one sign-up per faith community, please). Contact the facilitator, Lisa Brenskelle, at gcs.lrc@gmail.com, with any questions.
X-ALT-DESC;FMTTYPE=text/html:Cool Congregations Cohort<br /><br />10/27/25 07:00 PM EST - 10/27/25 08:00 PM EST<br />Description:<br />Faith communities of all faith/spiritual traditions are invited to join the Cool Congregations Cohort in 2025. The cohort will meet monthly online throughout the year, and the facilitator will work with you to accomplish two goals during the course of the year: (1) develop a plan to reduce your faith community&rsquo;s carbon footprint by 50% by 2030 (in line with goals sent by climate scientists) and (2) incorporate care for the earth into all aspects of your faith community&rsquo;s life. The cohort facilitator, who has decades of experience in &ldquo;greening&rdquo; of faith communities, will give individualized attention to the 10 faith communities that participate, helping them to discover ways to both reduce their carbon footprint and renew their faith community&rsquo;s commitment to care for the earth. Participating faith communities will also learn from each other&rsquo;s experiences and support each other throughout the program. This program is organized by the Interfaith Environmental Network of Houston, a Houston affiliate of the Texas chapter of Interfaith Power &amp;amp; Light, but is open to any faith community that would like to participate, and is not restricted to Houston- nor Texas-based faith communities. Please register your faith community at <a href="http://www.google.com/url?q=http%3A%2F%2Fwww.eventbrite.com&amp;sa=D&amp;sntz=1&amp;usg=AOvVaw1JewvG3m_5Byne2UGvU54c" target="_blank">www.eventbrite.com</a> at <a href="https://www.google.com/url?q=https%3A%2F%2Fwww.eventbrite.com%2Fe%2F2025-cool-congregations-cohort-&amp;sa=D&amp;source=calendar&amp;ust=1756812180000000&amp;usg=AOvVaw2Bx9T7vBd126WLVLtcEaPI" target="_blank">https://www.eventbrite.com/e/2025-cool-congregations-cohort-tickets-1106765247649</a> (only one sign-up per faith community, please). Contact the facilitator, Lisa Brenskelle, at <a href="mailto:gcs.lrc@gmail.com">gcs.lrc@gmail.com</a>, with any questions.
PRIORITY:3
TRANSP:TRANSPARENT
BEGIN:VALARM
TRIGGER:-PT5M
ACTION:DISPLAY
DESCRIPTION:Reminder
END:VALARM
END:VEVENT
END:VCALENDAR
