BEGIN:VCALENDAR
VERSION:2.0
CALSCALE:GREGORIAN
METHOD:PUBLISH
PRODID://CEC//198029
BEGIN:VEVENT
DTSTAMP:20260419T124034
VTIMEZONE:America/New_York
DTSTART:20250904T123000Z
DTEND:20250904T150000Z
UID:198029
SUMMARY:Weekly Bird Walks at John Paul Landing Environmental Education Center
LOCATION:John Paul Landing Environmental Education Center, 9950 Katy Hockley Rd, Cypress, TX, 77433
DESCRIPTION:Weekly Bird Walks at John Paul Landing Environmental Education Center\n\n09/04/25 08:30 AM EST\n - 09/04/25 11:00 AM EST\Description:\nStart your day with a guided walk to explore the birds of John Paul Landing Park. All ages and levels of experience welcome. Please bring your own equipment, water, and bug spray, etc. Hats and sunscreen are recommended as there is little shade along the 2-mile route. Walks leave from John Paul Landing Environmental Education Center.\Location:\nJohn Paul Landing Environmental Education Center\n9950 Katy Hockley Rd\nCypress, TX 77433
X-ALT-DESC;FMTTYPE=text/html:Weekly Bird Walks at John Paul Landing Environmental Education Center<br /><br />09/04/25 08:30 AM EST - 09/04/25 11:00 AM EST<br />Description:<br />Start your day with a guided walk to explore the birds of John Paul Landing Park. All ages and levels of experience welcome. Please bring your own equipment, water, and bug spray, etc. Hats and sunscreen are recommended as there is little shade along the 2-mile route. Walks leave from John Paul Landing Environmental Education Center.<br />Location:<br />John Paul Landing Environmental Education Center<br />9950 Katy Hockley Rd<br />Cypress, TX 77433
PRIORITY:3
TRANSP:TRANSPARENT
BEGIN:VALARM
TRIGGER:-PT5M
ACTION:DISPLAY
DESCRIPTION:Reminder
END:VALARM
END:VEVENT
END:VCALENDAR
