BEGIN:VCALENDAR
VERSION:2.0
CALSCALE:GREGORIAN
METHOD:PUBLISH
PRODID://CEC//198051
BEGIN:VEVENT
DTSTAMP:20260419T133848
VTIMEZONE:America/New_York
DTSTART:20251114T133000Z
DTEND:20251114T140000Z
UID:198051
SUMMARY:Environmental Educators Exchange
LOCATION:, TX
DESCRIPTION:Environmental Educators Exchange\n\n11/14/25 08:30 AM EST\n - 11/14/25 09:00 AM EST\Description:\nThe Environmental Educators Exchange (EEE) Virtual Meet Ups take place every other Friday at 8:30 AM. Join us for a chance to connect with fellow educators, swap stories, share resources, and build a sense of community! These meetings are hosted by CEC in partnership with Texas Association for Environmental Education.\n\nJoin Zoom Meeting\nhttps://us02web.zoom.us/j/81906451252?pwd=R1g5TjZrcGRQNTlEYS9EV0xXZzZTZz09\n\nMeeting ID: 819 0645 1252\nPasscode: 611064\nOne tap mobile\n+13462487799,,81906451252#,,,,*611064# US (Houston)\n+12532158782,,81906451252#,,,,*611064# US (Tacoma)\n\nDial by your location\n        +1 346 248 7799 US (Houston)\n        +1 253 215 8782 US (Tacoma)\n        +1 669 900 6833 US (San Jose)\n        +1 929 205 6099 US (New York)\n        +1 301 715 8592 US (Washington DC)\n        +1 312 626 6799 US (Chicago)\nMeeting ID: 819 0645 1252\nPasscode: 611064\nFind your local number: https://us02web.zoom.us/u/kdd3HbBX7s
X-ALT-DESC;FMTTYPE=text/html:Environmental Educators Exchange<br /><br />11/14/25 08:30 AM EST - 11/14/25 09:00 AM EST<br />Description:<br />The Environmental Educators Exchange (EEE) Virtual Meet Ups take place every other Friday at 8:30 AM. Join us for a chance to connect with fellow educators, swap stories, share resources, and build a sense of community! These meetings are hosted by CEC in partnership with <a href="https://taee.org/" target="_blank"><strong>Texas Association for Environmental Education.</strong></a><br />
<br />
Join Zoom Meeting<br />
<a href="https://www.google.com/url?q=https%3A%2F%2Fus02web.zoom.us%2Fj%2F81906451252%3Fpwd%3DR1g5TjZrcGRQNTlEYS9EV0xXZzZTZz09&amp;sa=D&amp;source=calendar&amp;ust=1756812180000000&amp;usg=AOvVaw2HKUXlcu-PdpxCh-UfeWB3" target="_blank">https://us02web.zoom.us/j/81906451252?pwd=R1g5TjZrcGRQNTlEYS9EV0xXZzZTZz09</a><br />
<br />
Meeting ID: 819 0645 1252<br />
Passcode: 611064<br />
One tap mobile<br />
+13462487799,,81906451252#,,,,*611064# US (Houston)<br />
+12532158782,,81906451252#,,,,*611064# US (Tacoma)<br />
<br />
Dial by your location<br />
&nbsp; &nbsp; &nbsp; &nbsp; +1 346 248 7799 US (Houston)<br />
&nbsp; &nbsp; &nbsp; &nbsp; +1 253 215 8782 US (Tacoma)<br />
&nbsp; &nbsp; &nbsp; &nbsp; +1 669 900 6833 US (San Jose)<br />
&nbsp; &nbsp; &nbsp; &nbsp; +1 929 205 6099 US (New York)<br />
&nbsp; &nbsp; &nbsp; &nbsp; +1 301 715 8592 US (Washington DC)<br />
&nbsp; &nbsp; &nbsp; &nbsp; +1 312 626 6799 US (Chicago)<br />
Meeting ID: 819 0645 1252<br />
Passcode: 611064<br />
Find your local number: <a href="https://us02web.zoom.us/zoomconference?m=ODE5MDY0NTEyNTI.TpjwcLSPRxCduLPHvXcUIxXOctU1_EjF&amp;_x_zm_rtaid=4SbPFAPpSC-OIAyyQp--zw.1756381358962.3adf24a7e1504c6f006fa4fc476ae378&amp;_x_zm_rhtaid=158" target="_blank">https://us02web.zoom.us/u/kdd3HbBX7s</a>
PRIORITY:3
TRANSP:TRANSPARENT
BEGIN:VALARM
TRIGGER:-PT5M
ACTION:DISPLAY
DESCRIPTION:Reminder
END:VALARM
END:VEVENT
END:VCALENDAR
