BEGIN:VCALENDAR
VERSION:2.0
CALSCALE:GREGORIAN
METHOD:PUBLISH
PRODID://CEC//198088
BEGIN:VEVENT
DTSTAMP:20260419T103844
VTIMEZONE:America/New_York
DTSTART:20251220T200000Z
DTEND:20251220T210000Z
UID:198088
SUMMARY:Texas Parks and Wildlife TV
LOCATION:, TX
DESCRIPTION:Texas Parks and Wildlife TV\n\n12/20/25 03:00 PM EST\n - 12/20/25 04:00 PM EST\Description:\nBroadcast on KUHT Channel 8 at 3 p.m. each Saturday and on municipal access cable channels in Baytown, Deer Park, Houston, Texas City, Galveston, Nassau Bay, Pasadena, Seabrook, Sugar Land, and on HCC TV. More info on the TPWD website (* indicates a segment on the Houston area). For more visit TPWD’s YouTube Page.
X-ALT-DESC;FMTTYPE=text/html:Texas Parks and Wildlife TV<br /><br />12/20/25 03:00 PM EST - 12/20/25 04:00 PM EST<br />Description:<br />Broadcast on KUHT Channel 8 at 3 p.m. each Saturday and on municipal access cable channels in Baytown, Deer Park, <a href="https://www.houstontx.gov/htv/" target="_blank">Houston, Texas City, Galveston,</a> Nassau Bay, Pasadena, Seabrook, Sugar Land, and on <a href="https://www.hccs.edu/district/about-us/mediaroom/hcctv/" target="_blank">HCC TV</a>. More info on the TPWD website (* indicates a segment on the Houston area). For more visit <a href="https://www.youtube.com/playlist?list=UUwdtpZyZGJoHXnT4Rm2xEgQ" target="_blank">TPWD&rsquo;s YouTube Page.</a>
PRIORITY:3
TRANSP:TRANSPARENT
BEGIN:VALARM
TRIGGER:-PT5M
ACTION:DISPLAY
DESCRIPTION:Reminder
END:VALARM
END:VEVENT
END:VCALENDAR
