BEGIN:VCALENDAR
VERSION:2.0
CALSCALE:GREGORIAN
METHOD:PUBLISH
PRODID://CEC//198149
BEGIN:VEVENT
DTSTAMP:20260419T133622
VTIMEZONE:America/New_York
DTSTART:20250917T150000Z
DTEND:20250917T160000Z
UID:198149
SUMMARY:Bringing the Zoo to You
LOCATION:, TX
DESCRIPTION:Bringing the Zoo to You\n\n09/17/25 11:00 AM EST\n - 09/17/25 12:00 PM EST\Description:\nEach Wednesday at 11:00 a.m., the Houston Zoo hosts a Facebook Live to bring the Zoo to YOU! Join for updates of what our furred, flippered, and feathered friends are up to and how zookeepers are caring for them. To see past videos, check out the library here.
X-ALT-DESC;FMTTYPE=text/html:Bringing the Zoo to You<br /><br />09/17/25 11:00 AM EST - 09/17/25 12:00 PM EST<br />Description:<br />Each Wednesday at 11:00 a.m., the Houston Zoo hosts a <a href="https://www.facebook.com/houstonzoo" target="_blank"><strong>Facebook Live</strong></a> to bring the Zoo to YOU! Join for updates of what our furred, flippered, and feathered friends are up to and how zookeepers are caring for them. To see past videos, check out the library <strong><a href="https://www.houstonzoo.org/bringing-the-zoo-to-you/" target="_blank">here.</a></strong>
PRIORITY:3
TRANSP:TRANSPARENT
BEGIN:VALARM
TRIGGER:-PT5M
ACTION:DISPLAY
DESCRIPTION:Reminder
END:VALARM
END:VEVENT
END:VCALENDAR
