BEGIN:VCALENDAR
VERSION:2.0
CALSCALE:GREGORIAN
METHOD:PUBLISH
PRODID://CEC//198152
BEGIN:VEVENT
DTSTAMP:20260419T133623
VTIMEZONE:America/New_York
DTSTART:20251008T150000Z
DTEND:20251008T160000Z
UID:198152
SUMMARY:Bringing the Zoo to You
LOCATION:, TX
DESCRIPTION:Bringing the Zoo to You\n\n10/08/25 11:00 AM EST\n - 10/08/25 12:00 PM EST\Description:\nEach Wednesday at 11:00 a.m., the Houston Zoo hosts a Facebook Live to bring the Zoo to YOU! Join for updates of what our furred, flippered, and feathered friends are up to and how zookeepers are caring for them. To see past videos, check out the library here.
X-ALT-DESC;FMTTYPE=text/html:Bringing the Zoo to You<br /><br />10/08/25 11:00 AM EST - 10/08/25 12:00 PM EST<br />Description:<br />Each Wednesday at 11:00 a.m., the Houston Zoo hosts a <a href="https://www.facebook.com/houstonzoo" target="_blank"><strong>Facebook Live</strong></a> to bring the Zoo to YOU! Join for updates of what our furred, flippered, and feathered friends are up to and how zookeepers are caring for them. To see past videos, check out the library <strong><a href="https://www.houstonzoo.org/bringing-the-zoo-to-you/" target="_blank">here.</a></strong>
PRIORITY:3
TRANSP:TRANSPARENT
BEGIN:VALARM
TRIGGER:-PT5M
ACTION:DISPLAY
DESCRIPTION:Reminder
END:VALARM
END:VEVENT
END:VCALENDAR
