BEGIN:VCALENDAR
VERSION:2.0
CALSCALE:GREGORIAN
METHOD:PUBLISH
PRODID://CEC//198166
BEGIN:VEVENT
DTSTAMP:20260419T133623
VTIMEZONE:America/New_York
DTSTART:20250903T220000Z
DTEND:20250903T230000Z
UID:198166
SUMMARY:Sound Healing Meditation at the Buffalo Bayou Park Cistern
LOCATION:, 1019 Commerce St, Houston, TX, 77002
DESCRIPTION:Sound Healing Meditation at the Buffalo Bayou Park Cistern\n\n09/03/25 06:00 PM EST\n - 09/03/25 07:00 PM EST\Description:\nThis 45-minute session starts at 6 pm and will be offered every Wednesday until further notice. Led by Union is Creation, singing bowls and wind chimes are played to encourage mindfulness and connectivity in this unique acoustic space. Guests may bring their cushions or mats. Registration is required. https://fareharbor.com/embeds/book/buffalobayou/items/246138/?full-items=yes&back=https://buffalobayou.org/visit/destination/the-cistern/&flow=314836&a=yes&g4=yes\Location:\n\n1019 Commerce St\nHouston, TX 77002
X-ALT-DESC;FMTTYPE=text/html:Sound Healing Meditation at the Buffalo Bayou Park Cistern<br /><br />09/03/25 06:00 PM EST - 09/03/25 07:00 PM EST<br />Description:<br />This 45-minute session starts at 6 pm and will be offered every Wednesday until further notice. Led by Union is Creation, singing bowls and wind chimes are played to encourage mindfulness and connectivity in this unique acoustic space. Guests may bring their cushions or mats. Registration is required. <a href="https://www.google.com/url?q=https%3A%2F%2Ffareharbor.com%2Fembeds%2Fbook%2Fbuffalobayou%2Fitems%2F246138%2F%3Ffull-items%3Dyes%26back%3Dhttps%3A%2F%2Fbuffalobayou.org%2Fvisit%2Fdestination%2Fthe-cistern%2F%26flow%3D314836%26a%3Dyes%26g4%3Dyes&amp;sa=D&amp;source=calendar&amp;ust=1756636800000000&amp;usg=AOvVaw26C39VrFijDvkPb8RBbiTH" target="_blank">https://fareharbor.com/embeds/book/buffalobayou/items/246138/?full-items=yes&amp;back=https://buffalobayou.org/visit/destination/the-cistern/&amp;flow=314836&amp;a=yes&amp;g4=yes</a><br />Location:<br /><br />1019 Commerce St<br />Houston, TX 77002
PRIORITY:3
TRANSP:TRANSPARENT
BEGIN:VALARM
TRIGGER:-PT5M
ACTION:DISPLAY
DESCRIPTION:Reminder
END:VALARM
END:VEVENT
END:VCALENDAR
