BEGIN:VCALENDAR
VERSION:2.0
CALSCALE:GREGORIAN
METHOD:PUBLISH
PRODID://CEC//198491
BEGIN:VEVENT
DTSTAMP:20260419T142940
VTIMEZONE:America/New_York
DTSTART:20251231T133000Z
DTEND:20251231T143000Z
UID:198491
SUMMARY:Volunteer for Exploration Green's Wetlands Team
LOCATION:, 2101 Bay Area Blvd,, Houston, TX, 77058
DESCRIPTION:Volunteer for Exploration Green's Wetlands Team\n\n12/31/25 08:30 AM EST\n - 12/31/25 09:30 AM EST\Description:\nVolunteers with the Wetlands Team alternate weeks in the nursery and planting in the existing phases. If you'd like to help with wetland planting, meet at the nursery corner of Seakale Ln. and Bay Area Blvd. each Wednesday morning at 8:30am. To get more information or to RSVP, please e-mail Christie Taylor with TexasA&M AgriLife Texas Community Watershed Partners office.\Location:\n\n2101 Bay Area Blvd,\nHouston, TX 77058
X-ALT-DESC;FMTTYPE=text/html:Volunteer for Exploration Green's Wetlands Team<br /><br />12/31/25 08:30 AM EST - 12/31/25 09:30 AM EST<br />Description:<br />Volunteers with the Wetlands Team alternate weeks in the nursery and planting in the existing phases. If you'd like to help with wetland planting, meet at the nursery corner of Seakale Ln. and Bay Area Blvd. each Wednesday morning at 8:30am. To get more information or to RSVP, please e-mail Christie Taylor with TexasA&amp;M AgriLife Texas Community Watershed Partners office.<br />Location:<br /><br />2101 Bay Area Blvd,<br />Houston, TX 77058
PRIORITY:3
TRANSP:TRANSPARENT
BEGIN:VALARM
TRIGGER:-PT5M
ACTION:DISPLAY
DESCRIPTION:Reminder
END:VALARM
END:VEVENT
END:VCALENDAR
