BEGIN:VCALENDAR
VERSION:2.0
CALSCALE:GREGORIAN
METHOD:PUBLISH
PRODID://CEC//198505
BEGIN:VEVENT
DTSTAMP:20260419T133826
VTIMEZONE:America/New_York
DTSTART:20251128T140000Z
DTEND:20251128T180000Z
UID:198505
SUMMARY:Coastal Prairie Conservancy Volunteer Stewards
LOCATION:Indiangrass Preserve, 31975 Hebert Road, Waller, TX, 77484
DESCRIPTION:Coastal Prairie Conservancy Volunteer Stewards\n\n11/28/25 09:00 AM EST\n - 11/28/25 01:00 PM EST\Description:\nHelp us care for the Katy Prairie! Every Tuesday and Friday on the Indiangrass Preserve, volunteer stewards participate in activities critical to the success of our restoration and public access programs. Volunteers maintain the Ann Hamilton Trail, grow out native species in our Coastal Prairie Native Seed Nursery, plant native wildflowers and grasses, remove invasive species, build and repair preserve improvements, and ensure the safety of our preserve for visitors of all ages.\n\n\nPhysical Requirements: Bending, kneeling, or sitting on the ground; some light lifting.\n\nWhat to wear: Closed-toed shoes, tall socks, long pants, long-sleeved shirt, hat.\n\nHow to join: Complete our volunteer application. Then, email Bethany Foshee for more details and to sign-up for this opportunity.\Location:\nIndiangrass Preserve\n31975 Hebert Road\nWaller, TX 77484
X-ALT-DESC;FMTTYPE=text/html:Coastal Prairie Conservancy Volunteer Stewards<br /><br />11/28/25 09:00 AM EST - 11/28/25 01:00 PM EST<br />Description:<br />Help us care for the Katy Prairie! Every Tuesday and Friday on the Indiangrass Preserve, volunteer stewards participate in activities critical to the success of our restoration and public access programs. Volunteers maintain the Ann Hamilton Trail, grow out native species in our Coastal Prairie Native Seed Nursery, plant native wildflowers and grasses, remove invasive species, build and repair preserve improvements, and ensure the safety of our preserve for visitors of all ages.<br />
<br />
<br />
<strong>Physical Requirements:</strong> Bending, kneeling, or sitting on the ground; some light lifting.<br />
<br />
<strong>What to wear:</strong> Closed-toed shoes, tall socks, long pants, long-sleeved shirt, hat.<br />
<br />
<strong>How to join: </strong>Complete our <a href="https://www.google.com/url?q=https%3A%2F%2Fwww.coastalprairieconservancy.org%2Fvolunteer-application-form&amp;sa=D&amp;source=calendar&amp;ust=1756636800000000&amp;usg=AOvVaw1_dlu_dYNay8VBSWOIPNFk" target="_blank">volunteer application.</a> Then, email Bethany Foshee for more details and to sign-up for this opportunity.<br />Location:<br />Indiangrass Preserve<br />31975 Hebert Road<br />Waller, TX 77484
PRIORITY:3
TRANSP:TRANSPARENT
BEGIN:VALARM
TRIGGER:-PT5M
ACTION:DISPLAY
DESCRIPTION:Reminder
END:VALARM
END:VEVENT
END:VCALENDAR
