BEGIN:VCALENDAR
VERSION:2.0
CALSCALE:GREGORIAN
METHOD:PUBLISH
PRODID://CEC//198512
BEGIN:VEVENT
DTSTAMP:20260419T133554
VTIMEZONE:America/New_York
DTSTART:20251115T133000Z
DTEND:20251115T163000Z
UID:198512
SUMMARY:Buffalo Bayou Partnership Monthly Volunteer Workday
LOCATION:Buffalo Bayou Park, 1800 Allen Pkwy & Memorial Dr, Houston, TX, 77019
DESCRIPTION:Buffalo Bayou Partnership Monthly Volunteer Workday\n\n11/15/25 08:30 AM EST\n - 11/15/25 11:30 AM EST\Description:\nHoustonians, ages 9 and up, are invited to join Buffalo Bayou Partnership for community-wide volunteer days at Buffalo Bayou Park happening the third Saturday of each month. Whether volunteering as an individual or a small group, your efforts will lead to a healthier environment and a more aesthetically pleasing amenity for all to enjoy. \n\nIndividuals can register by completing our online waiver. Small groups can reserve spaces and larger groups can schedule another day during the month by emailing volulnteer@buffalobayou.org. \n\nVolunteers will help with a variety of tasks, including but not limited to: trash pick-up, mulching and weed removal. We do ask that all volunteers bring their own work gloves. All other necessary work tools will be provided by BBP.\n  \nTo sign up, please read the Volunteer Information packet and complete an online Volunteer Waiver here.\Location:\nBuffalo Bayou Park\n1800 Allen Pkwy & Memorial Dr\nHouston, TX 77019
X-ALT-DESC;FMTTYPE=text/html:Buffalo Bayou Partnership Monthly Volunteer Workday<br /><br />11/15/25 08:30 AM EST - 11/15/25 11:30 AM EST<br />Description:<br />Houstonians, ages 9 and up, are invited to join Buffalo Bayou Partnership for community-wide volunteer days at Buffalo Bayou Park happening the third Saturday of each month. Whether volunteering as an individual or a small group, your efforts will lead to a healthier environment and a more aesthetically pleasing amenity for all to enjoy.&nbsp;<br />
<br />
Individuals can register by completing our online waiver. Small groups can reserve spaces and larger groups can schedule another day during the month by emailing <a href="mailto:volulnteer@buffalobayou.org">volulnteer@buffalobayou.org</a>.&nbsp;<br />
<br />
Volunteers will help with a variety of tasks, including but not limited to: trash pick-up, mulching and weed removal. We do ask that all volunteers bring their own work gloves. All other necessary work tools will be provided by BBP.<br />
&nbsp;&nbsp;<br />
To sign up, please read the Volunteer Information packet and complete an online Volunteer Waiver <strong><a href="https://app.etapestry.com/onlineforms/BuffaloBayouPartnership/volunteerwaiver.html" target="_blank">here.</a></strong><br />Location:<br />Buffalo Bayou Park<br />1800 Allen Pkwy & Memorial Dr<br />Houston, TX 77019
PRIORITY:3
TRANSP:TRANSPARENT
BEGIN:VALARM
TRIGGER:-PT5M
ACTION:DISPLAY
DESCRIPTION:Reminder
END:VALARM
END:VEVENT
END:VCALENDAR
