BEGIN:VCALENDAR
VERSION:2.0
CALSCALE:GREGORIAN
METHOD:PUBLISH
PRODID://CEC//200430
BEGIN:VEVENT
DTSTAMP:20260419T154503
VTIMEZONE:America/Chicago
DTSTART:20251116T210000Z
DTEND:20251116T220000Z
UID:200430
SUMMARY:Interfaith Prayer Vigil during the U.N. Climate Conference
LOCATION:Hermann Park 6001 Fannin St., Houston, TX, 77030
DESCRIPTION:Interfaith Prayer Vigil during the U.N. Climate Conference\n\n11/16/25 03:00 PM CST\n - 11/16/25 04:00 PM CST\Description:\nDuring the U.N. Climate Conference (COP30) in Belém, Brazil, people of all faiths and spiritual traditions\nare invited to come together for prayer, meditation and reflection in the beauty of nature at Hermann\nPark. Clergy of a variety of faiths/spiritual traditions will offer readings, reflections and\nprayers/meditations from their traditions, all in support of the ongoing climate conference, which runs\nfrom November 10 - 21. Join us to offer your thoughts and prayers for those in deliberation at COP30.\nSpecific location in the park will be sent to registrants several days in advance of the event. Contact Lisa\nBrenskelle at gcs.lrc@gmail.com for more information. Register on www.eventbrite.com at:\nhttps://www.eventbrite.com/e/1765631012889\Location:\nHermann Park 6001 Fannin St.\n\nHouston, TX 77030
X-ALT-DESC;FMTTYPE=text/html:Interfaith Prayer Vigil during the U.N. Climate Conference<br /><br />11/16/25 03:00 PM CST - 11/16/25 04:00 PM CST<br />Description:<br />During the U.N. Climate Conference (COP30) in Bel&eacute;m, Brazil, people of all faiths and spiritual traditions<br />
are invited to come together for prayer, meditation and reflection in the beauty of nature at Hermann<br />
Park. Clergy of a variety of faiths/spiritual traditions will offer readings, reflections and<br />
prayers/meditations from their traditions, all in support of the ongoing climate conference, which runs<br />
from November 10 - 21. Join us to offer your thoughts and prayers for those in deliberation at COP30.<br />
Specific location in the park will be sent to registrants several days in advance of the event. Contact Lisa<br />
Brenskelle at <a href="http://gcs.lrc@gmail.com">gcs.lrc@gmail.com</a> for more information. Register on www.eventbrite.com at:<br />
<a href="https://www.eventbrite.com/e/1765631012889">https://www.eventbrite.com/e/1765631012889</a><br />Location:<br />Hermann Park 6001 Fannin St.<br /><br />Houston, TX 77030
PRIORITY:3
TRANSP:TRANSPARENT
BEGIN:VALARM
TRIGGER:-PT5M
ACTION:DISPLAY
DESCRIPTION:Reminder
END:VALARM
END:VEVENT
END:VCALENDAR
