BEGIN:VCALENDAR
VERSION:2.0
CALSCALE:GREGORIAN
METHOD:PUBLISH
PRODID://CEC//200431
BEGIN:VEVENT
DTSTAMP:20260419T153134
VTIMEZONE:America/New_York
DTSTART:20251109T200000Z
DTEND:20251109T210000Z
UID:200431
SUMMARY:How to Become a Cool Congregation
LOCATION:, TX
DESCRIPTION:How to Become a Cool Congregation\n\n11/09/25 03:00 PM EST\n - 11/09/25 04:00 PM EST\Description:\nCool Congregations was a program of Interfaith Power &amp; Light, whose mission is to inspire and mobilize\npeople of faith and conscience to take bold and just action on climate change. While we can certainly\ntake bold action as individuals, bold action is more powerful and effective when done in community,\nsuch as in a faith community. In 2026, the Interfaith Environmental Network of Houston invites faith\ncommunities to join our third Cool Congregations cohort, where we’ll meet online monthly to learn and\nsupport each other in developing and implementing our faith communities’ action plans to respond to\nclimate change and go green in everything we do. This presentation will cover the Cool Congregations\nCohort program and resources, and will discuss specific plans for the 2026 cohort of cool congregations.\nFaith communities interested in taking action on climate change and going green will find this talk\nuseful, whether they wish to participate in the cohort or not. The cohort will be open to all faith\ncommunities, and is not restricted to those in the greater Houston region. Time for interactive\ndiscussion with attendees will be provided. This event will be recorded and the recording made available\nto all who register. Contact Lisa Brenskelle at gcs.lrc@gmail.com for more information. Please register\nfor this talk on www.eventbrite.com at https://www.eventbrite.com/e/1738354698699
X-ALT-DESC;FMTTYPE=text/html:How to Become a Cool Congregation<br /><br />11/09/25 03:00 PM EST - 11/09/25 04:00 PM EST<br />Description:<br />Cool Congregations was a program of Interfaith Power &amp;amp; Light, whose mission is to inspire and mobilize<br />
people of faith and conscience to take bold and just action on climate change. While we can certainly<br />
take bold action as individuals, bold action is more powerful and effective when done in community,<br />
such as in a faith community. In 2026, the Interfaith Environmental Network of Houston invites faith<br />
communities to join our third Cool Congregations cohort, where we&rsquo;ll meet online monthly to learn and<br />
support each other in developing and implementing our faith communities&rsquo; action plans to respond to<br />
climate change and go green in everything we do. This presentation will cover the Cool Congregations<br />
Cohort program and resources, and will discuss specific plans for the 2026 cohort of cool congregations.<br />
Faith communities interested in taking action on climate change and going green will find this talk<br />
useful, whether they wish to participate in the cohort or not. The cohort will be open to all faith<br />
communities, and is not restricted to those in the greater Houston region. Time for interactive<br />
discussion with attendees will be provided. This event will be recorded and the recording made available<br />
to all who register. Contact Lisa Brenskelle at gcs.lrc@gmail.com for more information. Please register<br />
for this talk on www.eventbrite.com at <a href="https://www.eventbrite.com/e/1738354698699">https://www.eventbrite.com/e/1738354698699</a>
PRIORITY:3
TRANSP:TRANSPARENT
BEGIN:VALARM
TRIGGER:-PT5M
ACTION:DISPLAY
DESCRIPTION:Reminder
END:VALARM
END:VEVENT
END:VCALENDAR
