BEGIN:VCALENDAR
VERSION:2.0
CALSCALE:GREGORIAN
METHOD:PUBLISH
PRODID://CEC//200734
BEGIN:VEVENT
DTSTAMP:20260419T135905
VTIMEZONE:America/Chicago
DTSTART:20251101T150000Z
DTEND:20251101T160000Z
UID:200734
SUMMARY:Via Creationis: Walking the Way of Creation
LOCATION:, 6001 Fannin St. Houston, Houston, TX, 77030
DESCRIPTION:Via Creationis: Walking the Way of Creation\n\n11/01/25 10:00 AM CST\n - 11/01/25 11:00 AM CST\Description:\nGain a richer appreciation of the great mystery of God’s creation in this guided walk in Hermann Park,\nusing the park’s beautiful natural setting to prayerfully ponder this mystery and praise our Creator for\nthe marvels of Creation. The Via Creationis (the way of creation) commemorates the mystery of\nCreation by reading side by side the two sacred books that God wrote: the Book of Scripture and the\nBook of the Cosmos, as theologians have taught throughout history. At each stop along the walk, we will\nfocus on one aspect of creation, with an accompanying verse from Genesis, a related science highlight,\nresponsive readings, and time for reflection and prayer. Deepen your Christian spiritual practice by\nwalking the way of creation in the park! All attendees will receive materials on the Via Creationis to take\nhome and use again in future. This event is for a small group and advance registration is required.\nSpecific meeting location in the park will be sent to all registrants several days prior to the event.\nRegister on www.eventbrite.com at: https://www.eventbrite.com/e/via-creationis-walking-the-way-of-\ncreation-tickets-1641359182499. Contact Lisa Brenskelle at gcs.lrc@gmail.com for more information.\Location:\n\n6001 Fannin St. Houston\nHouston, TX 77030
X-ALT-DESC;FMTTYPE=text/html:Via Creationis: Walking the Way of Creation<br /><br />11/01/25 10:00 AM CST - 11/01/25 11:00 AM CST<br />Description:<br />Gain a richer appreciation of the great mystery of God&rsquo;s creation in this guided walk in Hermann Park,<br />
using the park&rsquo;s beautiful natural setting to prayerfully ponder this mystery and praise our Creator for<br />
the marvels of Creation. The Via Creationis (the way of creation) commemorates the mystery of<br />
Creation by reading side by side the two sacred books that God wrote: the Book of Scripture and the<br />
Book of the Cosmos, as theologians have taught throughout history. At each stop along the walk, we will<br />
focus on one aspect of creation, with an accompanying verse from Genesis, a related science highlight,<br />
responsive readings, and time for reflection and prayer. Deepen your Christian spiritual practice by<br />
walking the way of creation in the park! All attendees will receive materials on the Via Creationis to take<br />
home and use again in future. This event is for a small group and advance registration is required.<br />
Specific meeting location in the park will be sent to all registrants several days prior to the event.<br />
Register on www.eventbrite.com at: https://www.eventbrite.com/e/via-creationis-walking-the-way-of-<br />
creation-tickets-1641359182499. Contact Lisa Brenskelle at gcs.lrc@gmail.com for more information.<br />Location:<br /><br />6001 Fannin St. Houston<br />Houston, TX 77030
PRIORITY:3
TRANSP:TRANSPARENT
BEGIN:VALARM
TRIGGER:-PT5M
ACTION:DISPLAY
DESCRIPTION:Reminder
END:VALARM
END:VEVENT
END:VCALENDAR
