BEGIN:VCALENDAR
VERSION:2.0
CALSCALE:GREGORIAN
METHOD:PUBLISH
PRODID://CEC//200735
BEGIN:VEVENT
DTSTAMP:20260419T135906
VTIMEZONE:America/Chicago
DTSTART:20251124T000000Z
DTEND:20251124T010000Z
UID:200735
SUMMARY:Environmental Issues: Whatâ€™s a Christian to Do?
LOCATION:, TX
DESCRIPTION:Environmental Issues: Whatâ€™s a Christian to Do?\n\n11/23/25 06:00 PM CST\n - 11/23/25 07:00 PM CST\Description:\nClimate Change, Deforestation, Biodiversity Loss, Pollution, Water Scarcity… What is a Christian to do?\nJoin Lisa Brenskelle to consider how scripture addresses this question, and to what we, as Christians, are\ncalled. You’ll leave with a solid understanding of fundamental theology of creation care, an\nunderstanding of your vocation as a steward, and the ability to discuss this with other members of your\ncongregation. Time for interactive Q&amp;A with the speaker will be provided, so bring all your questions on\nthis topic. This program will be recorded and the recording distributed to all registrants. Please register\nfor this talk on www.eventbrite.com at https://www.eventbrite.com/e/environmental-issues-whats-a-\nchristian-to-do-tickets-1685401093039. Contact Lisa Brenskelle at gcs.lrc@gmail.com with any\nquestions.
X-ALT-DESC;FMTTYPE=text/html:Environmental Issues: Whatâ€™s a Christian to Do?<br /><br />11/23/25 06:00 PM CST - 11/23/25 07:00 PM CST<br />Description:<br />Climate Change, Deforestation, Biodiversity Loss, Pollution, Water Scarcity&hellip; What is a Christian to do?<br />
Join Lisa Brenskelle to consider how scripture addresses this question, and to what we, as Christians, are<br />
called. You&rsquo;ll leave with a solid understanding of fundamental theology of creation care, an<br />
understanding of your vocation as a steward, and the ability to discuss this with other members of your<br />
congregation. Time for interactive Q&amp;amp;A with the speaker will be provided, so bring all your questions on<br />
this topic. This program will be recorded and the recording distributed to all registrants. Please register<br />
for this talk on www.eventbrite.com at <a href="https://www.eventbrite.com/e/environmental-issues-whats-a- christian-to-do-tickets-1685401093039">https://www.eventbrite.com/e/environmental-issues-whats-a-<br />
christian-to-do-tickets-1685401093039</a>. Contact Lisa Brenskelle at <a href="mailto:gcs.lrc@gmail.com">gcs.lrc@gmail.com</a> with any<br />
questions.
PRIORITY:3
TRANSP:TRANSPARENT
BEGIN:VALARM
TRIGGER:-PT5M
ACTION:DISPLAY
DESCRIPTION:Reminder
END:VALARM
END:VEVENT
END:VCALENDAR
