BEGIN:VCALENDAR
VERSION:2.0
CALSCALE:GREGORIAN
METHOD:PUBLISH
PRODID://CEC//200740
BEGIN:VEVENT
DTSTAMP:20260419T153156
VTIMEZONE:America/New_York
DTSTART:20251119T140000Z
DTEND:20251119T160000Z
UID:200740
SUMMARY:Marine Debris Survey @ Texas City Dike
LOCATION:Texas City Dike, TX
DESCRIPTION:Marine Debris Survey @ Texas City Dike\n\n11/19/25 09:00 AM EST\n - 11/19/25 11:00 AM EST\Description:\nMarine debris survey in Texas City. During the survey we will pick up debris along the shoreline, catalog it, and remove it from the beach. All supplies will be provided, just bring some water! Registration is required, please use this link to sign up: https://volunteer.galvbay.org/need/detail/?need_id=1120070\Location:\nTexas City Dike\n\n, TX
X-ALT-DESC;FMTTYPE=text/html:Marine Debris Survey @ Texas City Dike<br /><br />11/19/25 09:00 AM EST - 11/19/25 11:00 AM EST<br />Description:<br />Marine debris survey in Texas City. During the survey we will pick up debris along the shoreline, catalog it, and remove it from the beach. All supplies will be provided, just bring some water! Registration is required, please use this link to sign up:&nbsp;<a data-saferedirecturl="https://www.google.com/url?q=https://volunteer.galvbay.org/need/detail/?need_id%3D1120070&amp;source=gmail&amp;ust=1761165618403000&amp;usg=AOvVaw1SDWdBu9DvlsvP-Qk6_9rJ" href="https://volunteer.galvbay.org/need/detail/?need_id=1120070" id="m_-1625061494175043618OWA5ac0430b-d4c8-0df4-bb29-ced895458721" target="_blank">https://volunteer.galvbay.org/<wbr />need/detail/?need_id=1120070</a><br />Location:<br />Texas City Dike<br /><br />, TX 
PRIORITY:3
TRANSP:TRANSPARENT
BEGIN:VALARM
TRIGGER:-PT5M
ACTION:DISPLAY
DESCRIPTION:Reminder
END:VALARM
END:VEVENT
END:VCALENDAR
