BEGIN:VCALENDAR
VERSION:2.0
CALSCALE:GREGORIAN
METHOD:PUBLISH
PRODID://CEC//200742
BEGIN:VEVENT
DTSTAMP:20260419T133719
VTIMEZONE:America/Chicago
DTSTART:20251203T150000Z
DTEND:20251203T170000Z
UID:200742
SUMMARY:Marine Debris Survey @ Seawolf Park
LOCATION:Seawolf Park, TX
DESCRIPTION:Marine Debris Survey @ Seawolf Park\n\n12/03/25 09:00 AM CST\n - 12/03/25 11:00 AM CST\Description:\nMarine debris survey in Galveston. During the survey we will pick up debris along the shoreline, catalog it, and remove it from the beach. All supplies will be provided, just bring some water! Registration is required, please use this link to sign up: https://volunteer.galvbay.org/need/detail/?need_id=1113743\Location:\nSeawolf Park\n\n, TX
X-ALT-DESC;FMTTYPE=text/html:Marine Debris Survey @ Seawolf Park<br /><br />12/03/25 09:00 AM CST - 12/03/25 11:00 AM CST<br />Description:<br />Marine debris survey in Galveston. During the survey we will pick up debris along the shoreline, catalog it, and remove it from the beach. All supplies will be provided, just bring some water! Registration is required, please use this link to sign up:&nbsp;<a data-saferedirecturl="https://www.google.com/url?q=https://volunteer.galvbay.org/need/detail/?need_id%3D1113743&amp;source=gmail&amp;ust=1761165618403000&amp;usg=AOvVaw0T1zEaTj4gWlnGlogd98fz" href="https://volunteer.galvbay.org/need/detail/?need_id=1113743" id="m_-1625061494175043618OWA7724ad30-02ec-7209-0349-06c53d1e222c" target="_blank">https://volunteer.galvbay.org/<wbr />need/detail/?need_id=1113743</a><br />Location:<br />Seawolf Park<br /><br />, TX 
PRIORITY:3
TRANSP:TRANSPARENT
BEGIN:VALARM
TRIGGER:-PT5M
ACTION:DISPLAY
DESCRIPTION:Reminder
END:VALARM
END:VEVENT
END:VCALENDAR
