BEGIN:VCALENDAR
VERSION:2.0
CALSCALE:GREGORIAN
METHOD:PUBLISH
PRODID://CEC//200743
BEGIN:VEVENT
DTSTAMP:20260419T155045
VTIMEZONE:America/Chicago
DTSTART:20251101T153000Z
DTEND:20251101T170000Z
UID:200743
SUMMARY:Rain Barrel Workshop
LOCATION:Mercer Botanic Gardens & Arboretum, 22306 Aldine Westfield Rd., Humble, TX, 77338
DESCRIPTION:Rain Barrel Workshop\n\n11/01/25 10:30 AM CST\n - 11/01/25 12:00 PM CST\Description:\nRain barrel workshop! The workshop will consist of supply pickup as well as a hands-on presentation and Q&A session with staff about the installation and benefits of your barrel. Pre-registration is required to reserve a barrel but the event itself is free and open to all, so please bring family and friends. Pre-register using this link: Rain Barrel Workshop November 2025 - Mercer Arboretum & Botanic Gardens - Campaign\Location:\nMercer Botanic Gardens & Arboretum\n22306 Aldine Westfield Rd.\nHumble, TX 77338
X-ALT-DESC;FMTTYPE=text/html:Rain Barrel Workshop<br /><br />11/01/25 10:30 AM CST - 11/01/25 12:00 PM CST<br />Description:<br />Rain barrel workshop! The workshop will consist of supply pickup as well as a hands-on presentation and Q&amp;A session with staff about the installation and benefits of your barrel. Pre-registration is required to reserve a barrel but the event itself is free and open to all, so please bring family and friends. Pre-register using this link:&nbsp;<a data-saferedirecturl="https://www.google.com/url?q=https://donate.galvbay.org/event/rain-barrel-workshop-november-2025-mercer-arboretum-and-botanic-gardens/e710007&amp;source=gmail&amp;ust=1761165618403000&amp;usg=AOvVaw0QcYsc2ZsTA75RAW7h9y9z" href="https://donate.galvbay.org/event/rain-barrel-workshop-november-2025-mercer-arboretum-and-botanic-gardens/e710007" id="m_-1625061494175043618OWAc42154be-eb48-bd73-431b-566d0dd2af0a" target="_blank">Rain Barrel Workshop November 2025 - Mercer Arboretum &amp; Botanic Gardens - Campaign</a><br />Location:<br />Mercer Botanic Gardens & Arboretum<br />22306 Aldine Westfield Rd.<br />Humble, TX 77338
PRIORITY:3
TRANSP:TRANSPARENT
BEGIN:VALARM
TRIGGER:-PT5M
ACTION:DISPLAY
DESCRIPTION:Reminder
END:VALARM
END:VEVENT
END:VCALENDAR
