BEGIN:VCALENDAR
VERSION:2.0
CALSCALE:GREGORIAN
METHOD:PUBLISH
PRODID://CEC//200744
BEGIN:VEVENT
DTSTAMP:20260419T135907
VTIMEZONE:America/Chicago
DTSTART:20251024T150000Z
DTEND:20251024T170000Z
UID:200744
SUMMARY:Green Wave Volunteer Cleanup at Gragg Park
LOCATION:Gragg Park, TX
DESCRIPTION:Green Wave Volunteer Cleanup at Gragg Park\n\n10/24/25 10:00 AM CST\n - 10/24/25 12:00 PM CST\Description:\nVisit ayw.givepulse.com to sign up. \n\nAmerican Youthworks Texas Conservation Corps (TXCC) is hosting a Green Wave Clean-Up Event.\n\nThis event is part of our ongoing Green Wave Initiative. Led by TXCC participants, the Green Wave Initiative combines community cleanup events with environmental education. Come pick up litter with us! Attend our events to help improve neighborhood health, reduce flood hazards and illegal waste disposal, and to enhance green space accessibility.\n\n• All ages are welcome!\n• Closed shoes are required\n• Gloves, grabbers, and safety vests are provided\n• Pants are recommended\n\nReach out to our coordination team by emailing GreenWave@ayw.org if you have any questions.\n\nPlease sign up so we know to expect you!\Location:\nGragg Park\n\n, TX
X-ALT-DESC;FMTTYPE=text/html:Green Wave Volunteer Cleanup at Gragg Park<br /><br />10/24/25 10:00 AM CST - 10/24/25 12:00 PM CST<br />Description:<br />Visit&nbsp;<a data-saferedirecturl="https://www.google.com/url?q=http://ayw.givepulse.com/&amp;source=gmail&amp;ust=1761165603697000&amp;usg=AOvVaw0RGPg9dNfYob1ijpy3v-rl" href="http://ayw.givepulse.com/" id="m_-3132688209695782319m_-6222987140737209102m_-8672447708867115838OWA4d2c465c-cce9-7483-82e7-1dec9ad1b081" target="_blank" title="http://ayw.givepulse.com/">ayw.givepulse.com</a>&nbsp;to sign up.&nbsp;<br />
<br />
<a data-saferedirecturl="https://www.google.com/url?q=https://americanyouthworks.org/&amp;source=gmail&amp;ust=1761165603697000&amp;usg=AOvVaw3IOkqmFka3g31qvvFhjW4h" href="https://americanyouthworks.org/" id="m_-3132688209695782319m_-6222987140737209102m_-8672447708867115838OWAc4976974-47ee-bde0-7ee3-898711845139" target="_blank" title="https://americanyouthworks.org/">American Youthworks</a>&nbsp;Texas Conservation Corps (TXCC) is hosting a Green Wave Clean-Up Event.<br />
<br />
This event is part of our ongoing&nbsp;<a data-saferedirecturl="https://www.google.com/url?q=https://texanbynature.org/projects/the-green-wave-initiative/&amp;source=gmail&amp;ust=1761165603697000&amp;usg=AOvVaw1SX53cWOkTyBl5_Y_3cIyJ" href="https://texanbynature.org/projects/the-green-wave-initiative/" id="m_-3132688209695782319m_-6222987140737209102m_-8672447708867115838OWAf7548d1e-6238-f0ce-78ba-1af0cce3ab4f" target="_blank" title="https://texanbynature.org/projects/the-green-wave-initiative/">Green Wave Initiative</a>. Led by TXCC participants, the Green Wave Initiative combines community cleanup events with environmental education. Come pick up litter with us! Attend our events to help improve neighborhood health, reduce flood hazards and illegal waste disposal, and to enhance green space accessibility.<br />
<br />
&bull; All ages are welcome!<br />
&bull; Closed shoes are required<br />
&bull; Gloves, grabbers, and safety vests are provided<br />
&bull; Pants are recommended<br />
<br />
Reach out to our coordination team&nbsp;by emailing&nbsp;<a href="mailto:GreenWave@ayw.org" id="m_-3132688209695782319m_-6222987140737209102m_-8672447708867115838OWA737a16cf-d78a-19cf-17d3-efe0b0a04613" target="_blank" title="mailto:GreenWave@ayw.org">GreenWave@ayw.org</a>&nbsp;if you have any questions.<br />
<br />
Please sign up so we know to expect you!<br />Location:<br />Gragg Park<br /><br />, TX 
PRIORITY:3
TRANSP:TRANSPARENT
BEGIN:VALARM
TRIGGER:-PT5M
ACTION:DISPLAY
DESCRIPTION:Reminder
END:VALARM
END:VEVENT
END:VCALENDAR
