BEGIN:VCALENDAR
VERSION:2.0
CALSCALE:GREGORIAN
METHOD:PUBLISH
PRODID://CEC//200918
BEGIN:VEVENT
DTSTAMP:20260419T133826
VTIMEZONE:America/Chicago
DTSTART:20260117T183000Z
DTEND:20260117T233000Z
UID:200918
SUMMARY:Green Films Festival
LOCATION:DeLUXE Theater, 3303 Lyons Ave, Houston, TX, 77020
DESCRIPTION:Green Films Festival\n\n01/17/26 12:30 PM CST\n - 01/17/26 05:30 PM CST\Description:\nA celebration of cinema, environmental activism, and community that brings together powerful stories that inspire action for our planet, this year’s festival unites the best of Houston’s voices with global perspectives. Be moved by inspiring films from the nationally acclaimed Wild and Scenic Film Festival On Tour and our homegrown Wild About Houston film festival, along with filmmaker Q&As plus panel discussions with local experts.\Details:\ncechouston.org/greenfilms\Location:\nDeLUXE Theater\n3303 Lyons Ave\nHouston, TX 77020
X-ALT-DESC;FMTTYPE=text/html:Green Films Festival<br /><br />01/17/26 12:30 PM CST - 01/17/26 05:30 PM CST<br />Description:<br />A celebration of cinema, environmental activism, and community that&nbsp;brings together powerful stories that inspire action for our planet, this year&rsquo;s festival unites the best of Houston&rsquo;s voices with global perspectives. Be moved by inspiring films from the nationally acclaimed&nbsp;<strong>Wild and Scenic Film Festival On Tour</strong>&nbsp;and our homegrown&nbsp;<strong>Wild About Houston</strong>&nbsp;film festival, along with filmmaker Q&amp;As plus panel discussions with local experts.<br />Details:<br /><span style="font-size:14px"><strong><a href="https://cechouston.org/greenfilms/" target="_blank"><span style="color:#5d9632">cechouston.org/greenfilms</span></a></strong></span><br />Location:<br />DeLUXE Theater<br />3303 Lyons Ave<br />Houston, TX 77020
PRIORITY:3
TRANSP:TRANSPARENT
BEGIN:VALARM
TRIGGER:-PT5M
ACTION:DISPLAY
DESCRIPTION:Reminder
END:VALARM
END:VEVENT
END:VCALENDAR
