BEGIN:VCALENDAR
VERSION:2.0
CALSCALE:GREGORIAN
METHOD:PUBLISH
PRODID://CEC//200922
BEGIN:VEVENT
DTSTAMP:20260419T135858
VTIMEZONE:America/Chicago
DTSTART:20251025T150000Z
DTEND:20251025T163000Z
UID:200922
SUMMARY:The Hill at Sims Greenway Project: Industry & Career Professionals Tour
LOCATION:The Hill at Sims Greenway, 3801 Hickok Ln, Houston, TX, 77047
DESCRIPTION:The Hill at Sims Greenway Project: Industry & Career Professionals Tour\n\n10/25/25 10:00 AM CST\n - 10/25/25 11:30 AM CST\Description:\nThe Hill at Sims Greenway Project is a forward-thinking initiative that combines flood mitigation, habitat restoration, and green infrastructure to support the communities of Sunnyside, South Acres, and Crestmont Park.\n \nJoin Bayou Preservation Association and Harris County Precinct One for a behind-the-scenes walking tour led by Precinct One staff. Learn about the project’s planning, design, and construction phases, and see how this effort promotes resilient, sustainable infrastructure across Houston’s watershed.\n \nTo RSVP: https://www.bayoupreservation.org/events/the-hill-at-sims-greenway-project-industry-career-professionals-tour/form\n \nFor more information: https://www.bayoupreservation.org/events/the-hill-at-sims-greenway-project-industry-career-professionals-tour\n\nThe Hill at Sims Greenway, 3801 Hickok Ln, Houston, TX 77047\n(Please park along Hickok Lane, across from the construction entrance.)\n\n \Location:\nThe Hill at Sims Greenway\n3801 Hickok Ln\nHouston, TX 77047
X-ALT-DESC;FMTTYPE=text/html:The Hill at Sims Greenway Project: Industry & Career Professionals Tour<br /><br />10/25/25 10:00 AM CST - 10/25/25 11:30 AM CST<br />Description:<br />The Hill at Sims Greenway Project is a forward-thinking initiative that combines flood mitigation, habitat restoration, and green infrastructure to support the communities of Sunnyside, South Acres, and Crestmont Park.<br />
&nbsp;<br />
Join Bayou Preservation Association and Harris County Precinct One for a behind-the-scenes walking tour led by Precinct One staff. Learn about the project&rsquo;s planning, design, and construction phases, and see how this effort promotes resilient, sustainable infrastructure across Houston&rsquo;s watershed.<br />
&nbsp;<br />
To RSVP:&nbsp;<a data-saferedirecturl="https://www.google.com/url?q=https://www.bayoupreservation.org/events/the-hill-at-sims-greenway-project-industry-career-professionals-tour/form&amp;source=gmail&amp;ust=1761632506431000&amp;usg=AOvVaw0S25uDR3aIGvdeAJTwGlvN" href="https://www.bayoupreservation.org/events/the-hill-at-sims-greenway-project-industry-career-professionals-tour/form" target="_blank">https://www.bayoupreservation.<wbr />org/events/the-hill-at-sims-<wbr />greenway-project-industry-<wbr />career-professionals-tour/form</a><br />
&nbsp;<br />
For more information:&nbsp;<a data-saferedirecturl="https://www.google.com/url?q=https://www.bayoupreservation.org/events/the-hill-at-sims-greenway-project-industry-career-professionals-tour&amp;source=gmail&amp;ust=1761632506431000&amp;usg=AOvVaw25nLebxqASLX6ra4mZE0Ea" href="https://www.bayoupreservation.org/events/the-hill-at-sims-greenway-project-industry-career-professionals-tour" target="_blank">https://www.bayoupreservation.<wbr />org/events/the-hill-at-sims-<wbr />greenway-project-industry-<wbr />career-professionals-tour</a><br />
<br />
The Hill at Sims Greenway, 3801 Hickok Ln, Houston, TX 77047<br />
(Please park along Hickok Lane, across from the construction entrance.)<br />
<br />
&nbsp;<br />Location:<br />The Hill at Sims Greenway<br />3801 Hickok Ln<br />Houston, TX 77047
PRIORITY:3
TRANSP:TRANSPARENT
BEGIN:VALARM
TRIGGER:-PT5M
ACTION:DISPLAY
DESCRIPTION:Reminder
END:VALARM
END:VEVENT
END:VCALENDAR
