BEGIN:VCALENDAR
VERSION:2.0
CALSCALE:GREGORIAN
METHOD:PUBLISH
PRODID://CEC//200925
BEGIN:VEVENT
DTSTAMP:20260419T135906
VTIMEZONE:America/Chicago
DTSTART:20251108T160000Z
DTEND:20251108T200000Z
UID:200925
SUMMARY:Free Prairie 101 Teacher Workshop offered by Native Prairies Association of Texas and the Environmental Institute of Houston (University of Houston - 
LOCATION:, TX
DESCRIPTION:Free Prairie 101 Teacher Workshop offered by Native Prairies Association of Texas and the Environmental Institute of Houston (University of Houston - \n\n11/08/25 10:00 AM CST\n - 11/08/25 02:00 PM CST\Description:\nWhen:\nSaturday, November 8, 2025\n10AM-2PM\n\nWhere:\nIn Deer Park, Texas at the Deer Park Prairie - a Native Prairie Association of Texas prairie education location.\n\nTopics will include:  A Multi-Disciplinary Approach with Prairie Activities, Insect Sweep, History & Benefits of Coastal Prairie, Prairie Ecology, Prairie Management, Pollinators, Environmental Careers, and Pocket Prairies. The Workshop is TEKS Aligned, by TEEAC Providers. \n\nPlease bring your own water bottle.\n\nLunch provided, Registration required.\n\nEducators of all grade levels, district coordinators, pre-service teachers, and informal educators are welcome to register.\n\nRSVP Required - Space is Limited, confirmation information will be sent at a later time:\n\nRegistration: https://forms.gle/vVDZyKfnitqKe8FT6 \nRachel Weaver • rachel_weaver@texasprairie.org \nWendy Reistle • Reistle@uhcl.edu\nPlease reach out if you have any questions. Please forward this information to your network. \n\n\n 
X-ALT-DESC;FMTTYPE=text/html:Free Prairie 101 Teacher Workshop offered by Native Prairies Association of Texas and the Environmental Institute of Houston (University of Houston - <br /><br />11/08/25 10:00 AM CST - 11/08/25 02:00 PM CST<br />Description:<br /><p dir="ltr">When:<br />
Saturday, November 8, 2025<br />
10AM-2PM<br />
<br />
Where:<br />
In Deer Park, Texas&nbsp;at the Deer Park Prairie - a Native Prairie Association of Texas prairie education location.<br />
<br />
Topics will include:&nbsp; A Multi-Disciplinary Approach with Prairie Activities, Insect Sweep, History &amp; Benefits of Coastal Prairie, Prairie Ecology, Prairie Management, Pollinators, Environmental Careers, and Pocket Prairies. The Workshop is TEKS Aligned, by TEEAC Providers.&nbsp;<br />
<br />
Please bring your own water bottle.<br />
<br />
Lunch provided, Registration required.<br />
<br />
Educators of all grade levels, district coordinators, pre-service teachers, and informal educators are welcome to register.<br />
<br />
RSVP Required - Space is Limited, confirmation information will be sent at a later time:<br />
<br />
Registration:&nbsp;<a data-saferedirecturl="https://www.google.com/url?q=https://forms.gle/vVDZyKfnitqKe8FT6&amp;source=gmail&amp;ust=1761633670239000&amp;usg=AOvVaw3mJNc-kyuZApQtKuNgy5K8" href="https://forms.gle/vVDZyKfnitqKe8FT6" target="_blank">https://forms.gle/<wbr />vVDZyKfnitqKe8FT6</a>&nbsp;<br />
Rachel Weaver &bull;&nbsp;<a href="mailto:rachel_weaver@texasprairie.org" target="_blank">rachel_weaver@texasprairie.org</a><wbr />&nbsp;<br />
Wendy Reistle &bull;&nbsp;<a href="mailto:Reistle@uhcl.edu" target="_blank">Reistle@uhcl.edu</a><br />
Please reach out if you have any questions. Please forward this information to your network.&nbsp;</p>
<br />
<br />
&nbsp;
PRIORITY:3
TRANSP:TRANSPARENT
BEGIN:VALARM
TRIGGER:-PT5M
ACTION:DISPLAY
DESCRIPTION:Reminder
END:VALARM
END:VEVENT
END:VCALENDAR
