BEGIN:VCALENDAR
VERSION:2.0
CALSCALE:GREGORIAN
METHOD:PUBLISH
PRODID://CEC//200927
BEGIN:VEVENT
DTSTAMP:20260419T154503
VTIMEZONE:America/Chicago
DTSTART:20251107T150000Z
DTEND:20251109T230000Z
UID:200927
SUMMARY:TXSER 28th Annual Conference: Restoration for Resilience
LOCATION:, 1 Trinity Plaza, San Antonio, TX, 78212
DESCRIPTION:TXSER 28th Annual Conference: Restoration for Resilience\n\n11/07/25 09:00 AM CST\n - 11/09/25 05:00 PM CST\Description:\nAll general and concurrent sessions will take place at Trinity University on Saturday, November 8th. The awards banquet that evening will be held on site and is included in the cost of registration. Off-site field trip and workshop options will take place on Friday and Sunday. A welcome session will be held on Friday evening with the Keynote Address at Trinity University. \n\nKeynote Speaker: Lucille Contreras\n\nLucille is the CEO and founder of the Texas Tribal Buffalo Project, an organization dedicated to buffalo conservation, regenerative agriculture, and reconnecting Texas lineal descendants to their heritage. As a trailblazer in the field, Lucille leads the only known women-led bison ranching operation in Texas and is committed to preserving Indigenous foodways and community sovereignty. Learn more about Lucille in our conference details here.\n\nWe’re kicking off the conference with our\n\nWelcome Session on Friday, November 7th\n\nï»¿at Trinity University in the Center for Sciences and Innovation. Light food (Curry Boys BBQ) and beverages will be provided from 5:30-7pm (this is a ticketed event). If you’re in the beginning stages of your career, come early for a discussion with other students/young professionals and consider your future options with representatives from public, private, and academic sectors.\n\nOur keynote address will begin at 7pm.\n\nSee ticketing information for cost and location. Guests are welcome to attend. For individual guest tickets (not attending the conference) please add to your registration.\n\Location:\n\n1 Trinity Plaza\nSan Antonio, TX 78212
X-ALT-DESC;FMTTYPE=text/html:TXSER 28th Annual Conference: Restoration for Resilience<br /><br />11/07/25 09:00 AM CST - 11/09/25 05:00 PM CST<br />Description:<br /><p dir="ltr"><strong id="docs-internal-guid-b8c1fa52-7fff-ec36-2f86-4b893c9ac742">All general and concurrent sessions will take place at <a href="https://www.trinity.edu/">Trinity University</a> on Saturday, November 8th. The awards banquet that evening will be held on site and is included in the cost of registration. Off-site field trip and workshop options will take place on Friday and Sunday. A welcome session will be held on Friday evening with the Keynote Address at Trinity University.&nbsp;</strong></p>

<h3><span style="font-size:14px"><span style="font-family:arial,helvetica,sans-serif">Keynote Speaker: Lucille Contreras</span></span></h3>

<p>Lucille is the CEO and founder of the Texas Tribal Buffalo Project, an organization dedicated to buffalo conservation, regenerative agriculture, and reconnecting Texas lineal descendants to their heritage. As a trailblazer in the field, Lucille leads the only known women-led bison ranching operation in Texas and is committed to preserving Indigenous foodways and community sovereignty. Learn more about Lucille in our conference details&nbsp;<a data-saferedirecturl="https://www.google.com/url?q=https://urldefense.com/v3/__https://etk5icmab.cc.rs6.net/tn.jsp?f%3D001VfxWlJKlOjFIx5gjkYZvfD0x0S3qEOa-9X7KJnc97WI_eXKV4ihCVjEOHNNc-Xu4ahkPDW3DSJdYw2FLYfVzRq4Nylllk_akkVQhFAAD_ASSXig6HdiK-47fIA1s-_Pjjt74jYeCmwb1_xbzyhtuES2ECMGYPKWYQvDuJZzqZspUA57iJBknnpxKIR0PTeVtK6U-niWnXuLgv7YxiD2gHLqK88KHzF7LIH9WmHv5Od2vsaylamFdGsWgFe7jLmB50SdzhPhc0IsBq4FbfJHbaJDVg1ZYISTBT30sVeeQeN2MuBOxVBm8uRGGHZTD21sA%26c%3DgPm8feRH2gRl3xxCD9CsTiPePWGNOLdyrRMTKy-TkJKR--OVDS690w%3D%3D%26ch%3D8sAF7oTr5KuJToyHVSxbV6DfWHIu720QRGEGI3M-CizhEVCrZfPMaQ%3D%3D__;!!FvPYdGY!aqBbwtYiUW9TpAroSoQLvG1U59_7u8aS3JixMGl7e0CwcH6uBIlEGhl0R9cqM8dySHatPInNDzlh-c5q-V0ou0XOzes3iVGgGUk$&amp;source=gmail&amp;ust=1761634423705000&amp;usg=AOvVaw0A7_pINebMWaPeuI_eRjgz" href="https://urldefense.com/v3/__https://etk5icmab.cc.rs6.net/tn.jsp?f=001VfxWlJKlOjFIx5gjkYZvfD0x0S3qEOa-9X7KJnc97WI_eXKV4ihCVjEOHNNc-Xu4ahkPDW3DSJdYw2FLYfVzRq4Nylllk_akkVQhFAAD_ASSXig6HdiK-47fIA1s-_Pjjt74jYeCmwb1_xbzyhtuES2ECMGYPKWYQvDuJZzqZspUA57iJBknnpxKIR0PTeVtK6U-niWnXuLgv7YxiD2gHLqK88KHzF7LIH9WmHv5Od2vsaylamFdGsWgFe7jLmB50SdzhPhc0IsBq4FbfJHbaJDVg1ZYISTBT30sVeeQeN2MuBOxVBm8uRGGHZTD21sA&amp;c=gPm8feRH2gRl3xxCD9CsTiPePWGNOLdyrRMTKy-TkJKR--OVDS690w==&amp;ch=8sAF7oTr5KuJToyHVSxbV6DfWHIu720QRGEGI3M-CizhEVCrZfPMaQ==__;!!FvPYdGY!aqBbwtYiUW9TpAroSoQLvG1U59_7u8aS3JixMGl7e0CwcH6uBIlEGhl0R9cqM8dySHatPInNDzlh-c5q-V0ou0XOzes3iVGgGUk$" rel="noopener noreferrer" target="_blank">here</a>.</p>

<p align="center">We&rsquo;re kicking off the conference with our</p>

<p align="center">Welcome Session on Friday, November 7th</p>

<p align="center">ï»¿at Trinity University in the Center for Sciences and Innovation. Light food (<a data-saferedirecturl="https://www.google.com/url?q=https://urldefense.com/v3/__https://etk5icmab.cc.rs6.net/tn.jsp?f%3D001VfxWlJKlOjFIx5gjkYZvfD0x0S3qEOa-9X7KJnc97WI_eXKV4ihCVk3buZYD8lJriZRotQsxmxJx_OgJYHI0KgbPkqw_WFUV8O1zFkO6DUrSM3RvH0qo6RXCLzTRsei2VbZ-5o2REx89kRGyJNUzsAW-NyZfJiQX%26c%3DgPm8feRH2gRl3xxCD9CsTiPePWGNOLdyrRMTKy-TkJKR--OVDS690w%3D%3D%26ch%3D8sAF7oTr5KuJToyHVSxbV6DfWHIu720QRGEGI3M-CizhEVCrZfPMaQ%3D%3D__;!!FvPYdGY!aqBbwtYiUW9TpAroSoQLvG1U59_7u8aS3JixMGl7e0CwcH6uBIlEGhl0R9cqM8dySHatPInNDzlh-c5q-V0ou0XOzes3Xly0vLk$&amp;source=gmail&amp;ust=1761634423705000&amp;usg=AOvVaw0L-lToRQfU7QDehqxc9iFS" href="https://urldefense.com/v3/__https://etk5icmab.cc.rs6.net/tn.jsp?f=001VfxWlJKlOjFIx5gjkYZvfD0x0S3qEOa-9X7KJnc97WI_eXKV4ihCVk3buZYD8lJriZRotQsxmxJx_OgJYHI0KgbPkqw_WFUV8O1zFkO6DUrSM3RvH0qo6RXCLzTRsei2VbZ-5o2REx89kRGyJNUzsAW-NyZfJiQX&amp;c=gPm8feRH2gRl3xxCD9CsTiPePWGNOLdyrRMTKy-TkJKR--OVDS690w==&amp;ch=8sAF7oTr5KuJToyHVSxbV6DfWHIu720QRGEGI3M-CizhEVCrZfPMaQ==__;!!FvPYdGY!aqBbwtYiUW9TpAroSoQLvG1U59_7u8aS3JixMGl7e0CwcH6uBIlEGhl0R9cqM8dySHatPInNDzlh-c5q-V0ou0XOzes3Xly0vLk$" rel="noopener noreferrer" target="_blank">Curry Boys BBQ</a>) and beverages will be provided from&nbsp;5:30-7pm&nbsp;(this is a ticketed event). If you&rsquo;re in the beginning stages of your career, come early for a discussion with other students/young professionals and consider your future options with representatives from public, private, and academic sectors.</p>

<p align="center">Our keynote address will begin at 7pm.</p>

<p align="center">See&nbsp;<a data-saferedirecturl="https://www.google.com/url?q=https://urldefense.com/v3/__https://etk5icmab.cc.rs6.net/tn.jsp?f%3D001VfxWlJKlOjFIx5gjkYZvfD0x0S3qEOa-9X7KJnc97WI_eXKV4ihCVu2CWr2nKQgxZNXdsRHpq913ouWEpXjsC_rGlwRtaAGWULCLqcpuyC30iwnA1JIZgJEPrUca9jhwAa2fm-5RgVxiTbJOCnYarIErWjy_szuw-CIOlByS_Gj5CRBorGFYLpr8vrKx3Y-zQy70oN_0Tlyi-tmHCtcTciqfs-S07K6k%26c%3DgPm8feRH2gRl3xxCD9CsTiPePWGNOLdyrRMTKy-TkJKR--OVDS690w%3D%3D%26ch%3D8sAF7oTr5KuJToyHVSxbV6DfWHIu720QRGEGI3M-CizhEVCrZfPMaQ%3D%3D__;!!FvPYdGY!aqBbwtYiUW9TpAroSoQLvG1U59_7u8aS3JixMGl7e0CwcH6uBIlEGhl0R9cqM8dySHatPInNDzlh-c5q-V0ou0XOzes3XUjjFiE$&amp;source=gmail&amp;ust=1761634423705000&amp;usg=AOvVaw0kongAuhrk6Ou8ihXf14D4" href="https://urldefense.com/v3/__https://etk5icmab.cc.rs6.net/tn.jsp?f=001VfxWlJKlOjFIx5gjkYZvfD0x0S3qEOa-9X7KJnc97WI_eXKV4ihCVu2CWr2nKQgxZNXdsRHpq913ouWEpXjsC_rGlwRtaAGWULCLqcpuyC30iwnA1JIZgJEPrUca9jhwAa2fm-5RgVxiTbJOCnYarIErWjy_szuw-CIOlByS_Gj5CRBorGFYLpr8vrKx3Y-zQy70oN_0Tlyi-tmHCtcTciqfs-S07K6k&amp;c=gPm8feRH2gRl3xxCD9CsTiPePWGNOLdyrRMTKy-TkJKR--OVDS690w==&amp;ch=8sAF7oTr5KuJToyHVSxbV6DfWHIu720QRGEGI3M-CizhEVCrZfPMaQ==__;!!FvPYdGY!aqBbwtYiUW9TpAroSoQLvG1U59_7u8aS3JixMGl7e0CwcH6uBIlEGhl0R9cqM8dySHatPInNDzlh-c5q-V0ou0XOzes3XUjjFiE$" rel="noopener noreferrer" target="_blank">ticketing information</a>&nbsp;for cost and location. Guests are welcome to attend. For individual guest tickets (not attending the conference) please add to your registration.</p>
<br />Location:<br /><br />1 Trinity Plaza<br />San Antonio, TX 78212
PRIORITY:3
TRANSP:TRANSPARENT
BEGIN:VALARM
TRIGGER:-PT5M
ACTION:DISPLAY
DESCRIPTION:Reminder
END:VALARM
END:VEVENT
END:VCALENDAR
