BEGIN:VCALENDAR
VERSION:2.0
CALSCALE:GREGORIAN
METHOD:PUBLISH
PRODID://CEC//201137
BEGIN:VEVENT
DTSTAMP:20260419T135900
VTIMEZONE:America/Chicago
DTSTART:20251030T213000Z
DTEND:20251030T233000Z
UID:201137
SUMMARY:Get Wicked in the Thicket!
LOCATION:Collierâ€™s Ferry Park, TX
DESCRIPTION:Get Wicked in the Thicket!\n\n10/30/25 04:30 PM CST\n - 10/30/25 06:30 PM CST\Description:\nNeches River Adventures - Halloween Party\n\nAboard the Ivory Bill into the Mysterious Cypress Swamps of the Big Thicket\n\n $30 per Person\n\nCostume Contest - Prizes - Snacks - Drinks\n\nGhost Stories - Tarot Cards\n\nï»¿Pre-registration Required\n\nLimited Space Available\n\nRecommended for participants ages 16+ (Only 26 spaces available)\n\nRegister Here\n\Location:\nCollierâ€™s Ferry Park\n\n, TX
X-ALT-DESC;FMTTYPE=text/html:Get Wicked in the Thicket!<br /><br />10/30/25 04:30 PM CST - 10/30/25 06:30 PM CST<br />Description:<br /><p>Neches River Adventures - Halloween Party<br />
<br />
Aboard the Ivory Bill into the Mysterious Cypress Swamps of the Big Thicket<br />
<br />
<strong>&nbsp;$30 per Person</strong><br />
<br />
Costume Contest - Prizes - Snacks - Drinks<br />
<br />
Ghost Stories - Tarot Cards<br />
<br />
ï»¿Pre-registration Required<br />
<br />
Limited Space Available<br />
<br />
Recommended for participants ages 16+ (Only 26 spaces available)<br />
<br />
<a href="https://pci.jotform.com/form/252825207433151">Register Here</a></p>
<br />Location:<br />Collierâ€™s Ferry Park<br /><br />, TX 
PRIORITY:3
TRANSP:TRANSPARENT
BEGIN:VALARM
TRIGGER:-PT5M
ACTION:DISPLAY
DESCRIPTION:Reminder
END:VALARM
END:VEVENT
END:VCALENDAR
