BEGIN:VCALENDAR
VERSION:2.0
CALSCALE:GREGORIAN
METHOD:PUBLISH
PRODID://CEC//201141
BEGIN:VEVENT
DTSTAMP:20260419T154546
VTIMEZONE:America/Chicago
DTSTART:20251105T200000Z
DTEND:20251105T210000Z
UID:201141
SUMMARY:Nature Awaits: Empowering Families to Get Outdoors
LOCATION:, TX
DESCRIPTION:Nature Awaits: Empowering Families to Get Outdoors\n\n11/05/25 02:00 PM CST\n - 11/05/25 03:00 PM CST\Description:\nRegister today for our November 5th webinar, Nature Awaits: Empowering Families to Get Outdoors, before ticket sales end on November 4th.\n\nWebinar with Kristy Rangel, former Head of Professional Learning with the City of San Antonio’s Pre-K 4 SA program and Consultant\n\n Americans are spending about ninety percent of their time if not more, indoors, with children being no exception. The mental and physical benefits are compelling, so why are we not seeing a turn in this staying indoors? Even when outdoor access is created and built, in some areas, the space still sits unused. Curious about why this might be, I learned that for many families, there are some common, generalized obstacles standing in their way. This session will address these repeated concerns, provide research, and sound evidence on how to address parent education on these topics. This session will be useful for anyone in a position to speak to parents or adults who are caring for young children on the importance of taking children outdoors and hacks for the obstacles in the way.\n\n Kristy Rangel is the former Head of Professional Learning with the City of San Antonio’s Pre-K 4 SA program, serving early childhood education throughout the city, and is now independently specializing in facilitating workforce development in young adults, organizational health, and the art of effective communication for leaders. She is an avid lover of the outdoors and has been advocating for outdoor learning in schools for the past 25 years.\n\n Registration $10. Members can always register for FREE - learn more about membership: https://www.texaschildreninnature.org/give/membership \n\n If you are a member, please refer to your Membership Information Email to see instructions for registering\n\n Webinar offered at 2:00 and 7:00 Central on November 5, 2025\n\n Ticket Sales will end on November 4, 2025\n\n Webinar will be recorded and available for members and registrants\n\n A Zoom link will be emailed from a TCiNN Staff Member to registrants prior to the event\n\nRegister
X-ALT-DESC;FMTTYPE=text/html:Nature Awaits: Empowering Families to Get Outdoors<br /><br />11/05/25 02:00 PM CST - 11/05/25 03:00 PM CST<br />Description:<br />Register today for our November 5th webinar, Nature Awaits: Empowering Families to Get Outdoors, before ticket sales end on November 4th.<br />
<br />
Webinar with Kristy Rangel, former Head of Professional Learning with the City of San Antonio&rsquo;s Pre-K 4 SA program and Consultant<br />
<br />
&nbsp;Americans are spending about ninety percent of their time if not more, indoors, with children being no exception. The mental and physical benefits are compelling, so why are we not seeing a turn in this staying indoors? Even when outdoor access is created and built, in some areas, the space still sits unused. Curious about why this might be, I learned that for many families, there are some common, generalized obstacles standing in their way. This session will address these repeated concerns, provide research, and sound evidence on how to address parent education on these topics. This session will be useful for anyone in a position to speak to parents or adults who are caring for young children on the importance of taking children outdoors and hacks for the obstacles in the way.<br />
<br />
&nbsp;Kristy Rangel is the former Head of Professional Learning with the City of San Antonio&rsquo;s Pre-K 4 SA program, serving early childhood education throughout the city, and is now independently specializing in facilitating workforce development in young adults, organizational health, and the art of effective communication for leaders. She is an avid lover of the outdoors and has been advocating for outdoor learning in schools for the past 25 years.<br />
<br />
&nbsp;Registration $10. Members can always register for FREE - learn more about membership: https://www.texaschildreninnature.org/give/membership&nbsp;<br />
<br />
&nbsp;If you are a member, please refer to your Membership Information Email to see instructions for registering<br />
<br />
&nbsp;Webinar offered at 2:00 and 7:00 Central on November 5, 2025<br />
<br />
&nbsp;Ticket Sales will end on November 4, 2025<br />
<br />
&nbsp;Webinar will be recorded and available for members and registrants<br />
<br />
&nbsp;A Zoom link will be emailed from a TCiNN Staff Member to registrants prior to the event<br />
<br />
<a href="http://go.levitate.ai/tickets/texaschildreninnaturenetwork/nature-awaits-empowering-families-to-get-outdoors?t=53fcbf1ce08d46fc8559b9a56b60555f">Register</a>
PRIORITY:3
TRANSP:TRANSPARENT
BEGIN:VALARM
TRIGGER:-PT5M
ACTION:DISPLAY
DESCRIPTION:Reminder
END:VALARM
END:VEVENT
END:VCALENDAR
