BEGIN:VCALENDAR
VERSION:2.0
CALSCALE:GREGORIAN
METHOD:PUBLISH
PRODID://CEC//201142
BEGIN:VEVENT
DTSTAMP:20260419T135814
VTIMEZONE:America/Chicago
DTSTART:20251030T223000Z
DTEND:20251031T003000Z
UID:201142
SUMMARY:Halloween Sip & Stroll
LOCATION:Houston Arboretum, TX
DESCRIPTION:Halloween Sip & Stroll\n\n10/30/25 05:30 PM CST\n - 10/30/25 07:30 PM CST\Description:\nEnjoy a twilight hike on the trails at Houston Arboretum & Nature Center for the Halloween Sip & Stroll. Your spooky stroll on Halloween Eve will include a curated nature hike, two glasses of wine or Saint Arnold Brewing Company beer, and festive bites. Come for a meet-and-greet with our ambassador animals, then head out on your hike to spot critters along the route.\n\nThis event is rain or shine. Please dress for the weather and wear walking shoes. Halloween costumes are encouraged.\n \n $40 for members; $45 for nonmembers. You must be 21 or older to attend. To register, please visit https://houstonarboretum.org/event/halloween-sip-stroll/. \n\nParking is free for all guests on Thursdays. Please do not leave valuables in your car. Outside restrooms are located at the Nature Center building.\n \nFor more information or to join the Arboretum and enjoy all the benefits of Membership, visit\nwww.houstonarboretum.org or call 713-681-8433.\n \Location:\nHouston Arboretum\n\n, TX
X-ALT-DESC;FMTTYPE=text/html:Halloween Sip & Stroll<br /><br />10/30/25 05:30 PM CST - 10/30/25 07:30 PM CST<br />Description:<br />Enjoy a twilight hike on the trails at Houston Arboretum &amp; Nature Center for the Halloween Sip &amp; Stroll. Your spooky stroll on Halloween Eve will include a curated nature hike, two glasses of wine or Saint Arnold Brewing Company beer, and festive bites. Come for a meet-and-greet with our ambassador animals, then head out on your hike to spot critters along the route.<br />
<br />
This event is rain or shine. Please dress for the weather and wear walking shoes. Halloween costumes are encouraged.<br />
&nbsp;<br />
&nbsp;$40 for members; $45 for nonmembers. You must be 21 or older to attend. To register, please visit&nbsp;<a data-saferedirecturl="https://www.google.com/url?q=https://houstonarboretum.org/event/halloween-sip-stroll/&amp;source=gmail&amp;ust=1761778819737000&amp;usg=AOvVaw2d1siA1VJMRzq3WD-QLZFW" href="https://houstonarboretum.org/event/halloween-sip-stroll/" target="_blank">https://houstonarboretum.org/<wbr />event/halloween-sip-stroll/</a>.&nbsp;<br />
<br />
Parking is free for all guests on Thursdays. Please do not leave valuables in your car. Outside restrooms are located at the Nature Center building.<br />
&nbsp;<br />
For more information or to join the Arboretum and enjoy all the benefits of Membership, visit<br />
<a data-saferedirecturl="https://www.google.com/url?q=http://www.houstonarboretum.org&amp;source=gmail&amp;ust=1761778819737000&amp;usg=AOvVaw3fWCJFWxLzEvJ3xL1k0Fba" href="http://www.houstonarboretum.org/" target="_blank">www.houstonarboretum.org</a>&nbsp;or call 713-681-8433.<br />
&nbsp;<br />Location:<br />Houston Arboretum<br /><br />, TX 
PRIORITY:3
TRANSP:TRANSPARENT
BEGIN:VALARM
TRIGGER:-PT5M
ACTION:DISPLAY
DESCRIPTION:Reminder
END:VALARM
END:VEVENT
END:VCALENDAR
