BEGIN:VCALENDAR
VERSION:2.0
CALSCALE:GREGORIAN
METHOD:PUBLISH
PRODID://CEC//201145
BEGIN:VEVENT
DTSTAMP:20260419T135813
VTIMEZONE:America/Chicago
DTSTART:20251031T170000Z
DTEND:20251031T180000Z
UID:201145
SUMMARY:Protest at TCEQ offices against concrete batch plant near AWTY International School
LOCATION:TCEQ  Houston Office, 5425 Polk Street, Houston, TX, 77023
DESCRIPTION:Protest at TCEQ offices against concrete batch plant near AWTY International School\n\n10/31/25 12:00 PM CST\n - 10/31/25 01:00 PM CST\Description:\nAwty International School parents are organizing a protest outside of TCEQ's Houston office this Friday. Their demands relate specifically to the Concrete batch plant (Webber LLC) that is situated close to the Awty International School and more broadly to TCEQ's reluctance to properly regulate concrete batch plants and the air pollution associated with them. This Houston Chronicle article delves into the details of the health concerns and problems with the concrete batch plant near the Awty school as well as details of how the Awty parents have already been protesting and organizing.\nAll are welcome, but they are specifically inviting communities who have been impacted by CBPs and TCEQ to join them at the protest. They are hoping to build connection and collective power with other communities who have been dealing with these issues for a longer period. Please share with your networks.\n\Location:\nTCEQ  Houston Office\n5425 Polk Street\nHouston, TX 77023
X-ALT-DESC;FMTTYPE=text/html:Protest at TCEQ offices against concrete batch plant near AWTY International School<br /><br />10/31/25 12:00 PM CST - 10/31/25 01:00 PM CST<br />Description:<br /><font face="arial, sans-serif">Awty&nbsp;International School&nbsp;parents&nbsp;are organizing a protest outside of TCEQ's&nbsp;Houston office this Friday. Their demands relate specifically to the Concrete batch plant (Webber LLC) that is situated close to the Awty International School and more broadly to TCEQ's reluctance to properly regulate concrete batch plants and&nbsp;the air pollution associated with them. This Houston Chronicle&nbsp;<a data-saferedirecturl="https://www.google.com/url?q=https://www.houstonchronicle.com/news/houston-texas/environment/article/awty-concrete-batch-plant-pollution-21018021.php&amp;source=gmail&amp;ust=1761804732266000&amp;usg=AOvVaw2tC7tbWIMoE8D2-CiI9pHk" href="https://www.houstonchronicle.com/news/houston-texas/environment/article/awty-concrete-batch-plant-pollution-21018021.php" target="_blank">article</a>&nbsp;delves into the details of the health concerns and problems with the concrete batch plant near the Awty school as well as details&nbsp;of how the Awty parents have already been protesting and organizing.</font>
<p><font color="#000000"><font face="arial, sans-serif">All are welcome, but they are specifically inviting&nbsp;communities&nbsp;who have been impacted by CBPs and TCEQ to join them at the protest. They are hoping to build connection and collective power with other communities who have been dealing with these issues for a longer period. Please share with your networks.</font></font></p>
<br />Location:<br />TCEQ  Houston Office<br />5425 Polk Street<br />Houston, TX 77023
PRIORITY:3
TRANSP:TRANSPARENT
BEGIN:VALARM
TRIGGER:-PT5M
ACTION:DISPLAY
DESCRIPTION:Reminder
END:VALARM
END:VEVENT
END:VCALENDAR
