BEGIN:VCALENDAR
VERSION:2.0
CALSCALE:GREGORIAN
METHOD:PUBLISH
PRODID://CEC//201227
BEGIN:VEVENT
DTSTAMP:20260419T135900
VTIMEZONE:America/Chicago
DTSTART:20251108T160000Z
DTEND:20251108T180000Z
UID:201227
SUMMARY:Green Wave Volunteer Cleanup at Hidalgo Park
LOCATION:Hidalgo Park, 7000 Avenue Q, Houston, TX, 77011
DESCRIPTION:Green Wave Volunteer Cleanup at Hidalgo Park\n\n11/08/25 10:00 AM CST\n - 11/08/25 12:00 PM CST\Description:\nVisit ayw.givepulse.com to sign up. \n\nAmerican Youthworks Texas Conservation Corps (TXCC) is hosting a Green Wave Clean-Up Event on Saturday, November 8, at Hidalgo Park from 10am to noon.\n\nThis event is part of our ongoing Green Wave Initiative. Led by TXCC participants, the Green Wave Initiative combines community cleanup events with environmental education. Come pick up litter with us! Attend our events to help improve neighborhood health, reduce flood hazards and illegal waste disposal, and to enhance green space accessibility.\n\n• All ages are welcome!\n• Closed shoes are required\n• Gloves, grabbers, and safety vests are provided\n• Pants are recommended\n\nReach out to our coordination team by emailing GreenWave@ayw.org if you have any questions.\n\nPlease sign up so we know to expect you!\Location:\nHidalgo Park\n7000 Avenue Q\nHouston, TX 77011
X-ALT-DESC;FMTTYPE=text/html:Green Wave Volunteer Cleanup at Hidalgo Park<br /><br />11/08/25 10:00 AM CST - 11/08/25 12:00 PM CST<br />Description:<br />Visit&nbsp;<a data-saferedirecturl="https://www.google.com/url?q=http://ayw.givepulse.com/&amp;source=gmail&amp;ust=1761926847059000&amp;usg=AOvVaw11aj_Oi3zHSBj1FXfOqaiQ" href="http://ayw.givepulse.com/" id="m_1305702430101767180m_-6222987140737209102m_-8672447708867115838OWA0eba62ea-abfd-de2a-af04-9d31be3016b6" target="_blank" title="http://ayw.givepulse.com/">ayw.givepulse.com</a>&nbsp;to sign up.&nbsp;<br />
<br />
<a data-saferedirecturl="https://www.google.com/url?q=https://americanyouthworks.org/&amp;source=gmail&amp;ust=1761926847059000&amp;usg=AOvVaw2Li44HehE1-ppDM4fXZHoE" href="https://americanyouthworks.org/" id="m_1305702430101767180m_-6222987140737209102m_-8672447708867115838OWAc367253e-db31-d288-b81e-972436a66784" target="_blank" title="https://americanyouthworks.org/">American Youthworks</a>&nbsp;Texas Conservation Corps (TXCC) is hosting a Green Wave Clean-Up Event on Saturday, November 8, at Hidalgo Park from 10am to noon.<br />
<br />
This event is part of our ongoing&nbsp;<a data-saferedirecturl="https://www.google.com/url?q=https://texanbynature.org/projects/the-green-wave-initiative/&amp;source=gmail&amp;ust=1761926847059000&amp;usg=AOvVaw1EqARRzOVxNrIwsvgphQrg" href="https://texanbynature.org/projects/the-green-wave-initiative/" id="m_1305702430101767180m_-6222987140737209102m_-8672447708867115838OWA89f17114-2628-81d5-4a5e-99c283d6eb97" target="_blank" title="https://texanbynature.org/projects/the-green-wave-initiative/">Green Wave Initiative</a>. Led by TXCC participants, the Green Wave Initiative combines community cleanup events with environmental education. Come pick up litter with us! Attend our events to help improve neighborhood health, reduce flood hazards and illegal waste disposal, and to enhance green space accessibility.<br />
<br />
&bull; All ages are welcome!<br />
&bull; Closed shoes are required<br />
&bull; Gloves, grabbers, and safety vests are provided<br />
&bull; Pants are recommended<br />
<br />
Reach out to our coordination team&nbsp;by emailing&nbsp;<a href="mailto:GreenWave@ayw.org" id="m_1305702430101767180m_-6222987140737209102m_-8672447708867115838OWAbd128b46-04ef-b95e-bedf-c516b82770e9" target="_blank" title="mailto:GreenWave@ayw.org">GreenWave@ayw.org</a>&nbsp;if you have any questions.<br />
<br />
Please sign up so we know to expect you!<br />Location:<br />Hidalgo Park<br />7000 Avenue Q<br />Houston, TX 77011
PRIORITY:3
TRANSP:TRANSPARENT
BEGIN:VALARM
TRIGGER:-PT5M
ACTION:DISPLAY
DESCRIPTION:Reminder
END:VALARM
END:VEVENT
END:VCALENDAR
