BEGIN:VCALENDAR
VERSION:2.0
CALSCALE:GREGORIAN
METHOD:PUBLISH
PRODID://CEC//201231
BEGIN:VEVENT
DTSTAMP:20260419T133506
VTIMEZONE:America/Chicago
DTSTART:20251219T160000Z
DTEND:20251219T180000Z
UID:201231
SUMMARY:Green Wave Volunteer Cleanup at Blackhawk Park
LOCATION:Blackhawk Park, 9401 Fuqua Street, Houston, TX, 77075
DESCRIPTION:Green Wave Volunteer Cleanup at Blackhawk Park\n\n12/19/25 10:00 AM CST\n - 12/19/25 12:00 PM CST\Description:\nVisit ayw.givepulse.com to sign up. \n\nAmerican Youthworks Texas Conservation Corps (TXCC) is hosting a Green Wave Clean-Up Event on Friday, December 19, at Blackhawk Park from 10am to noon.  \n\nThis event is part of our ongoing Green Wave Initiative. Led by TXCC participants, the Green Wave Initiative combines community cleanup events with environmental education. Come pick up litter with us! Attend our events to help improve neighborhood health, reduce flood hazards and illegal waste disposal, and to enhance green space accessibility.\n\n• All ages are welcome!\n• Closed shoes are required\n• Gloves, grabbers, and safety vests are provided\n• Pants are recommended\n\nReach out to our coordination team by emailing GreenWave@ayw.org if you have any questions.\n\nPlease sign up so we know to expect you!\Details:\nVisit ayw.givepulse.com to sign up. \n\nAmerican Youthworks Texas Conservation Corps (TXCC) is hosting a Green Wave Clean-Up Event on Friday, December 19, at Blackhawk Park from 10am to noon.  \n\nThis event is part of our ongoing Green Wave Initiative. Led by TXCC participants, the Green Wave Initiative combines community cleanup events with environmental education. Come pick up litter with us! Attend our events to help improve neighborhood health, reduce flood hazards and illegal waste disposal, and to enhance green space accessibility.\n\n• All ages are welcome!\n• Closed shoes are required\n• Gloves, grabbers, and safety vests are provided\n• Pants are recommended\n\nReach out to our coordination team by emailing GreenWave@ayw.org if you have any questions.\n\nPlease sign up so we know to expect you!\Location:\nBlackhawk Park\n9401 Fuqua Street\nHouston, TX 77075
X-ALT-DESC;FMTTYPE=text/html:Green Wave Volunteer Cleanup at Blackhawk Park<br /><br />12/19/25 10:00 AM CST - 12/19/25 12:00 PM CST<br />Description:<br />Visit&nbsp;<a data-saferedirecturl="https://www.google.com/url?q=http://ayw.givepulse.com/&amp;source=gmail&amp;ust=1761926847059000&amp;usg=AOvVaw11aj_Oi3zHSBj1FXfOqaiQ" href="http://ayw.givepulse.com/" id="m_1305702430101767180m_-6222987140737209102m_-8672447708867115838OWAbeedddcd-b1cd-7b29-11f4-c2968964b1bb" target="_blank" title="http://ayw.givepulse.com/">ayw.givepulse.com</a>&nbsp;to sign up.&nbsp;<br />
<br />
<a data-saferedirecturl="https://www.google.com/url?q=https://americanyouthworks.org/&amp;source=gmail&amp;ust=1761926847059000&amp;usg=AOvVaw2Li44HehE1-ppDM4fXZHoE" href="https://americanyouthworks.org/" id="m_1305702430101767180m_-6222987140737209102m_-8672447708867115838OWAa7862a53-ca7a-09a9-a65b-c5dc7b9021e8" target="_blank" title="https://americanyouthworks.org/">American Youthworks</a>&nbsp;Texas Conservation Corps (TXCC) is hosting a Green Wave Clean-Up Event on Friday, December 19, at Blackhawk Park from 10am to noon.&nbsp;&nbsp;<br />
<br />
This event is part of our ongoing&nbsp;<a data-saferedirecturl="https://www.google.com/url?q=https://texanbynature.org/projects/the-green-wave-initiative/&amp;source=gmail&amp;ust=1761926847059000&amp;usg=AOvVaw1EqARRzOVxNrIwsvgphQrg" href="https://texanbynature.org/projects/the-green-wave-initiative/" id="m_1305702430101767180m_-6222987140737209102m_-8672447708867115838OWA4aaa517f-30e0-a8c3-6491-ae373fb43928" target="_blank" title="https://texanbynature.org/projects/the-green-wave-initiative/">Green Wave Initiative</a>. Led by TXCC participants, the Green Wave Initiative combines community cleanup events with environmental education. Come pick up litter with us! Attend our events to help improve neighborhood health, reduce flood hazards and illegal waste disposal, and to enhance green space accessibility.<br />
<br />
&bull; All ages are welcome!<br />
&bull; Closed shoes are required<br />
&bull; Gloves, grabbers, and safety vests are provided<br />
&bull; Pants are recommended<br />
<br />
Reach out to our coordination team by emailing&nbsp;<a href="mailto:GreenWave@ayw.org" id="m_1305702430101767180m_-6222987140737209102m_-8672447708867115838OWA3f5ff239-7e85-f5a0-6c95-3cbc3b1e27a6" target="_blank" title="mailto:GreenWave@ayw.org">GreenWave@ayw.org</a>&nbsp;if you have any questions.<br />
<br />
Please sign up so we know to expect you!<br />Details:<br />Visit&nbsp;<a data-saferedirecturl="https://www.google.com/url?q=http://ayw.givepulse.com/&amp;source=gmail&amp;ust=1761926847059000&amp;usg=AOvVaw11aj_Oi3zHSBj1FXfOqaiQ" href="http://ayw.givepulse.com/" id="m_1305702430101767180m_-6222987140737209102m_-8672447708867115838OWAbeedddcd-b1cd-7b29-11f4-c2968964b1bb" target="_blank" title="http://ayw.givepulse.com/">ayw.givepulse.com</a>&nbsp;to sign up.&nbsp;<br />
<br />
<a data-saferedirecturl="https://www.google.com/url?q=https://americanyouthworks.org/&amp;source=gmail&amp;ust=1761926847059000&amp;usg=AOvVaw2Li44HehE1-ppDM4fXZHoE" href="https://americanyouthworks.org/" id="m_1305702430101767180m_-6222987140737209102m_-8672447708867115838OWAa7862a53-ca7a-09a9-a65b-c5dc7b9021e8" target="_blank" title="https://americanyouthworks.org/">American Youthworks</a>&nbsp;Texas Conservation Corps (TXCC) is hosting a Green Wave Clean-Up Event on Friday, December 19, at Blackhawk Park from 10am to noon.&nbsp;&nbsp;<br />
<br />
This event is part of our ongoing&nbsp;<a data-saferedirecturl="https://www.google.com/url?q=https://texanbynature.org/projects/the-green-wave-initiative/&amp;source=gmail&amp;ust=1761926847059000&amp;usg=AOvVaw1EqARRzOVxNrIwsvgphQrg" href="https://texanbynature.org/projects/the-green-wave-initiative/" id="m_1305702430101767180m_-6222987140737209102m_-8672447708867115838OWA4aaa517f-30e0-a8c3-6491-ae373fb43928" target="_blank" title="https://texanbynature.org/projects/the-green-wave-initiative/">Green Wave Initiative</a>. Led by TXCC participants, the Green Wave Initiative combines community cleanup events with environmental education. Come pick up litter with us! Attend our events to help improve neighborhood health, reduce flood hazards and illegal waste disposal, and to enhance green space accessibility.<br />
<br />
&bull; All ages are welcome!<br />
&bull; Closed shoes are required<br />
&bull; Gloves, grabbers, and safety vests are provided<br />
&bull; Pants are recommended<br />
<br />
Reach out to our coordination team by emailing&nbsp;<a href="mailto:GreenWave@ayw.org" id="m_1305702430101767180m_-6222987140737209102m_-8672447708867115838OWA3f5ff239-7e85-f5a0-6c95-3cbc3b1e27a6" target="_blank" title="mailto:GreenWave@ayw.org">GreenWave@ayw.org</a>&nbsp;if you have any questions.<br />
<br />
Please sign up so we know to expect you!<br />Location:<br />Blackhawk Park<br />9401 Fuqua Street<br />Houston, TX 77075
PRIORITY:3
TRANSP:TRANSPARENT
BEGIN:VALARM
TRIGGER:-PT5M
ACTION:DISPLAY
DESCRIPTION:Reminder
END:VALARM
END:VEVENT
END:VCALENDAR
