BEGIN:VCALENDAR
VERSION:2.0
CALSCALE:GREGORIAN
METHOD:PUBLISH
PRODID://CEC//201404
BEGIN:VEVENT
DTSTAMP:20260419T135813
VTIMEZONE:America/Chicago
DTSTART:20251113T170000Z
DTEND:20251113T180000Z
UID:201404
SUMMARY:Clean Coast Texas: Low Impact & Nature Based Solutions for Watershed Protection
LOCATION:, TX
DESCRIPTION:Clean Coast Texas: Low Impact & Nature Based Solutions for Watershed Protection\n\n11/13/25 11:00 AM CST\n - 11/13/25 12:00 PM CST\Description:\nLink to register:\nMeeting Registration - Zoom\n\nThis webinar will showcase work from the San Antonio River Authority (SARA). Mikel Wilkins is joining us to provide an overview of how SARA is prioritizing implementation of nature-based solutions throughout the San Antonio River watershed, informed by water quality modeling. The presentation will discuss the identification and development of multi-benefit project concepts within the Leon Creek, Salado Creek and Upper San Antonio River watersheds. Mr. Wilkins will also discuss how these planning efforts complement ongoing City of San Antonio Phase 4 Community Area Plans, enhancements to the Westside Creeks Ecosystem Restoration project, and the overarching goal to address impairments in streams and rivers throughout the basin. Tune in to hear all about this great work!\n
X-ALT-DESC;FMTTYPE=text/html:Clean Coast Texas: Low Impact & Nature Based Solutions for Watershed Protection<br /><br />11/13/25 11:00 AM CST - 11/13/25 12:00 PM CST<br />Description:<br /><p><strong>Link to register:</strong><br />
<strong><a href="https://txstate.zoom.us/meeting/register/udEURtUWQQKJgplfsvv4GA#/registration" rel="nofollow ugc" target="_blank">Meeting Registration - Zoom</a></strong></p>

<p><strong>This webinar will showcase work from the&nbsp;<a href="https://www.sariverauthority.org/" rel="nofollow ugc" target="_blank">San Antonio River Authority</a>&nbsp;(SARA). Mikel Wilkins is joining us to provide an overview of how SARA is prioritizing implementation of nature-based solutions throughout the San Antonio River watershed, informed by water quality modeling.</strong>&nbsp;The presentation will discuss the identification and development of multi-benefit project concepts within the Leon Creek, Salado Creek and Upper San Antonio River watersheds. Mr. Wilkins will also discuss how these planning efforts complement ongoing City of San Antonio Phase 4 Community Area Plans, enhancements to the Westside Creeks Ecosystem Restoration project, and the overarching goal to address impairments in streams and rivers throughout the basin. Tune in to hear all about this great work!</p>

PRIORITY:3
TRANSP:TRANSPARENT
BEGIN:VALARM
TRIGGER:-PT5M
ACTION:DISPLAY
DESCRIPTION:Reminder
END:VALARM
END:VEVENT
END:VCALENDAR
