BEGIN:VCALENDAR
VERSION:2.0
CALSCALE:GREGORIAN
METHOD:PUBLISH
PRODID://CEC//201406
BEGIN:VEVENT
DTSTAMP:20260419T154503
VTIMEZONE:America/Chicago
DTSTART:20251108T160000Z
DTEND:20251108T220000Z
UID:201406
SUMMARY:Armand Bayou Nature Center's Annual Fall Fest
LOCATION:Armand Bayou Nature Center, 8500 Bay Area Blvd, Pasadena, TX
DESCRIPTION:Armand Bayou Nature Center's Annual Fall Fest\n\n11/08/25 10:00 AM CST\n - 11/08/25 04:00 PM CST\Description:\nExperience a weekend packed with fun, featuring live music, delicious food, refreshing beer, fun games, charming wagon rides, unique crafts, captivating live demonstrations, and much more! There's something for the whole family to enjoy. Discover the historic and natural wonder and excitement of this popular ABNC event! It's a festival you won't want to miss.\nADMISSION\n\nMEMBERS\n\n\n	\n	$12 Adults\n	\n	\n	$7 Children (4-12) & Seniors (60+)\n	\n\n\nNON-MEMBERS\n\n\n	\n	$14 Adults\n	\n	\n	$10 Children (4-12) & Seniors (60+)\n	\n\n\nPARKING\n\n\n	\n	On-site parking $5\n	\n	\n	Free parking & shuttle at UHCL Lot D\n	\n\n\nPurchase Tickets\Location:\nArmand Bayou Nature Center\n8500 Bay Area Blvd\nPasadena, TX
X-ALT-DESC;FMTTYPE=text/html:Armand Bayou Nature Center's Annual Fall Fest<br /><br />11/08/25 10:00 AM CST - 11/08/25 04:00 PM CST<br />Description:<br />Experience a weekend packed with fun, featuring live music, delicious food, refreshing beer, fun games, charming wagon rides, unique crafts, captivating live demonstrations, and much more! There's something for the whole family to enjoy. Discover the historic and natural wonder and excitement of this popular ABNC event! It's a festival you won't want to miss.
<h3><strong>ADMISSION</strong></h3>

<p><strong>MEMBERS</strong></p>

<ul data-rte-list="default">
	<li>
	<p>$12 Adults</p>
	</li>
	<li>
	<p>$7 Children (4-12) &amp; Seniors (60+)</p>
	</li>
</ul>

<p><strong>NON-MEMBERS</strong></p>

<ul data-rte-list="default">
	<li>
	<p>$14 Adults</p>
	</li>
	<li>
	<p>$10 Children (4-12) &amp; Seniors (60+)</p>
	</li>
</ul>

<h3><strong>PARKING</strong></h3>

<ul data-rte-list="default">
	<li>
	<p>On-site parking $5</p>
	</li>
	<li>
	<p>Free parking &amp; shuttle at UHCL Lot D</p>
	</li>
</ul>
<br />
<a data-initialized="true" data-sqsp-button="" href="https://fareharbor.com/embeds/book/abnc/items/94281/?full-items=yes&amp;flow=675164" target="_blank">Purchase Tickets</a><br />Location:<br />Armand Bayou Nature Center<br />8500 Bay Area Blvd<br />Pasadena, TX 
PRIORITY:3
TRANSP:TRANSPARENT
BEGIN:VALARM
TRIGGER:-PT5M
ACTION:DISPLAY
DESCRIPTION:Reminder
END:VALARM
END:VEVENT
END:VCALENDAR
