BEGIN:VCALENDAR
VERSION:2.0
CALSCALE:GREGORIAN
METHOD:PUBLISH
PRODID://CEC//201407
BEGIN:VEVENT
DTSTAMP:20260419T135901
VTIMEZONE:America/Chicago
DTSTART:20251108T160000Z
DTEND:20251108T200000Z
UID:201407
SUMMARY:Jesse Jones Forest Fest
LOCATION:Jesse H Jones Park and Nature Center, TX
DESCRIPTION:Jesse Jones Forest Fest\n\n11/08/25 10:00 AM CST\n - 11/08/25 02:00 PM CST\Description:\nFREE TREE GIVEAWAY COURTESY OF TREES FOR HOUSTON\nIt's Texas Arbor Day, y'all! Nature lovers of all ages are invited to Jones Park for a day of discovery, celebrating one of our most important natural resources - trees! Learn about the importance of our forests and how you can help conserve such a vital, but endangered, ecosystem at our Inaugural Forest Fest.\nTake pictures with Smokey Bear courtesy of the Texas Forest Service. Visit the pumpkin patch & decorate a curcurbit for your thanksgiving table.\nVisitors can enjoy facepainting, wildlife presentations, and 20 different educational exhibits. Native plants and concession sales available from Jesse Jones Park Volunteers.\nGreat for families of all ages, school groups, and Scouts. Three-gallon native trees provided by Trees for Houston - learn how to plant them for success & shade!\nNote: Pets will not be allowed in festival areas.\nScouts & community groups: contact JesseJonesPark@pct3.hctx.net if your group would like to participate in a tree planting party at the park for community service.\nGround surface is mostly grass; wagons encouraged for young audiences & to carry your plants back to your car.\Location:\nJesse H Jones Park and Nature Center\n\n, TX
X-ALT-DESC;FMTTYPE=text/html:Jesse Jones Forest Fest<br /><br />11/08/25 10:00 AM CST - 11/08/25 02:00 PM CST<br />Description:<br />FREE TREE GIVEAWAY COURTESY OF TREES FOR HOUSTON<br />
It's Texas Arbor Day, y'all! Nature lovers of all ages are invited to Jones Park for a day of discovery, celebrating one of our most important natural resources - trees! Learn about the importance of our forests and how you can help conserve such a vital, but endangered, ecosystem at our Inaugural Forest Fest.<br />
Take pictures with Smokey Bear courtesy of the Texas Forest Service. Visit the pumpkin patch &amp; decorate a curcurbit for your thanksgiving table.<br />
Visitors can enjoy facepainting, wildlife presentations, and 20 different educational exhibits. Native plants and concession sales available from Jesse Jones Park Volunteers.<br />
Great for families of all ages, school groups, and Scouts. Three-gallon native trees provided by Trees for Houston - learn how to plant them for success &amp; shade!<br />
Note: Pets will not be allowed in festival areas.<br />
Scouts &amp; community groups: contact JesseJonesPark@pct3.hctx.net if your group would like to participate in a tree planting party at the park for community service.<br />
Ground surface is mostly grass; wagons encouraged for young audiences &amp; to carry your plants back to your car.<br />Location:<br />Jesse H Jones Park and Nature Center<br /><br />, TX 
PRIORITY:3
TRANSP:TRANSPARENT
BEGIN:VALARM
TRIGGER:-PT5M
ACTION:DISPLAY
DESCRIPTION:Reminder
END:VALARM
END:VEVENT
END:VCALENDAR
