BEGIN:VCALENDAR
VERSION:2.0
CALSCALE:GREGORIAN
METHOD:PUBLISH
PRODID://CEC//201408
BEGIN:VEVENT
DTSTAMP:20260419T154503
VTIMEZONE:America/Chicago
DTSTART:20251115T150000Z
DTEND:20251115T170000Z
UID:201408
SUMMARY:America Recycles Day
LOCATION:, 23500 Circle Oak Pkwy, Richmond, TX
DESCRIPTION:America Recycles Day\n\n11/15/25 09:00 AM CST\n - 11/15/25 11:00 AM CST\Description:\nPlease register below for yourself and anyone from your family or group who may be attending with you.\n\nAll volunteers are required to sign waivers. Click HERE to sign our digital waivers for yourself and any children participating with you. \n\nWe will provide trash bags, grabbers, water refills, first aid supplies. You will be responsible for dressing appropriately, wearing close-toed shoes, bringing a reusable water bottle, and any additional supplies you may need to keep you safe during the cleanup.\n\nHouston Zoo will be collecting all ewaste items during the cleanup. Bring your acceptable ewaste including: \n\n\n	Cellphones/Smartphones\n	iPads/Tablets\n	iPods/mp3 players\n	Portable speakers\n	E-Readers/Kindles\n	GPS/AirTags\n	Smartwatches\n	Airpods/Earbuds\n	Small gaming devices\n	Digital cameras\n	Associated chargers/cables\n\n\Location:\n\n23500 Circle Oak Pkwy\nRichmond, TX
X-ALT-DESC;FMTTYPE=text/html:America Recycles Day<br /><br />11/15/25 09:00 AM CST - 11/15/25 11:00 AM CST<br />Description:<br /><p>Please register below for yourself and anyone from your family or group who may be attending with you.<br />
<br />
All volunteers are required to sign waivers. Click&nbsp;<a href="https://www.waiverfile.com/b/AmericanBirdConservancy/Waiver.aspx?id=e14242db-75b9-40c1-85c0-ab455e16b3e6&amp;direct=true" rel="nofollow">HERE&nbsp;</a>to sign our digital waivers for yourself and any children participating with you.&nbsp;</p>

<p>We will provide trash bags, grabbers, water refills, first aid supplies. You will be responsible for dressing appropriately, wearing close-toed shoes, bringing a reusable water bottle, and any additional supplies you may need to keep you safe during the cleanup.</p>

<p>Houston Zoo will be collecting all ewaste items during the cleanup. Bring your acceptable ewaste including:&nbsp;</p>

<ul>
	<li>Cellphones/Smartphones</li>
	<li>iPads/Tablets</li>
	<li>iPods/mp3 players</li>
	<li>Portable speakers</li>
	<li>E-Readers/Kindles</li>
	<li>GPS/AirTags</li>
	<li>Smartwatches</li>
	<li>Airpods/Earbuds</li>
	<li>Small gaming&nbsp;devices</li>
	<li>Digital cameras</li>
	<li>Associated chargers/cables</li>
</ul>
<br />Location:<br /><br />23500 Circle Oak Pkwy<br />Richmond, TX 
PRIORITY:3
TRANSP:TRANSPARENT
BEGIN:VALARM
TRIGGER:-PT5M
ACTION:DISPLAY
DESCRIPTION:Reminder
END:VALARM
END:VEVENT
END:VCALENDAR
