BEGIN:VCALENDAR
VERSION:2.0
CALSCALE:GREGORIAN
METHOD:PUBLISH
PRODID://CEC//201410
BEGIN:VEVENT
DTSTAMP:20260419T153134
VTIMEZONE:America/Chicago
DTSTART:20251122T150000Z
DTEND:20251122T170000Z
UID:201410
SUMMARY:Quintana County Beach Park Cleanup with HEB Lake Jackson
LOCATION: Quintana County Beach Park, TX
DESCRIPTION:Quintana County Beach Park Cleanup with HEB Lake Jackson\n\n11/22/25 09:00 AM CST\n - 11/22/25 11:00 AM CST\Description:\nThank you so much to H-E-B Our Texas Our Future for sponsoring this event. This event is also in partnership with the H-E-B Lake Jackson location. Please register below for yourself and anyone from your family or group who may be attending with you.\n\nThe exact meeting location can be found here:  https://maps.app.goo.gl/EcjqmjBnPdJ5Nhbc8\n\n\nAll volunteers are required to sign waivers. Visit www.splashtx.org/cleanups and scroll to the bottom of the page to download the waivers ahead of time if you'd like, but we will also email them to you and have them available to sign at the cleanup!\n\nIf you want to learn more about SPLASh or have any questions about our cleanup events, visit www.splashtx.org or email us at splashtx@abcbirds.org!\n\Location:\n Quintana County Beach Park\n\n, TX
X-ALT-DESC;FMTTYPE=text/html:Quintana County Beach Park Cleanup with HEB Lake Jackson<br /><br />11/22/25 09:00 AM CST - 11/22/25 11:00 AM CST<br />Description:<br /><p>Thank you so much to H-E-B Our Texas Our Future for sponsoring this event. This event is also in partnership with the H-E-B Lake Jackson&nbsp;location.&nbsp;Please register below for yourself and anyone from your family or group who may be attending with you.<br />
<br />
The exact meeting location can be found here:&nbsp;&nbsp;<a href="https://maps.app.goo.gl/EcjqmjBnPdJ5Nhbc8" rel="nofollow">https://maps.app.goo.gl/EcjqmjBnPdJ5Nhbc8</a></p>

<p><br />
All volunteers are required to sign waivers. Visit&nbsp;<a href="http://www.splashtx.org/cleanups" rel="nofollow">www.splashtx.org/cleanups</a>&nbsp;and scroll to the bottom of the page to download the waivers ahead of time if you'd like, but we will also email them to you and have them available to sign at the cleanup!<br />
<br />
If you want to learn more about SPLASh or have any questions about our cleanup events, visit&nbsp;<a href="http://www.splashtx.org/" rel="nofollow">www.splashtx.org</a>&nbsp;or email us at&nbsp;<a href="mailto:splashtx@abcbirds.org" rel="nofollow">splashtx@abcbirds.org</a>!</p>
<br />Location:<br /> Quintana County Beach Park<br /><br />, TX 
PRIORITY:3
TRANSP:TRANSPARENT
BEGIN:VALARM
TRIGGER:-PT5M
ACTION:DISPLAY
DESCRIPTION:Reminder
END:VALARM
END:VEVENT
END:VCALENDAR
