BEGIN:VCALENDAR
VERSION:2.0
CALSCALE:GREGORIAN
METHOD:PUBLISH
PRODID://CEC//201465
BEGIN:VEVENT
DTSTAMP:20260419T135814
VTIMEZONE:America/Chicago
DTSTART:20251108T150000Z
DTEND:20251108T190000Z
UID:201465
SUMMARY:Coastal Prairie Conservancy's Putting Down Roots Festival
LOCATION:Coastal Prairie Conservancy, 31975 Hebert Road, Waller, TX, 77484
DESCRIPTION:Coastal Prairie Conservancy's Putting Down Roots Festival\n\n11/08/25 09:00 AM CST\n - 11/08/25 01:00 PM CST\Description:\nJoin the Coastal Prairie Conservancy for the Putting Down Roots Festival on Saturday, November 8th from 9 am - 1pm. Hundreds of volunteers will plant thousands of native plants to restore a full acre of prairie. This is a free, family-friendly event! They'll provide all planting supplies, free hot dogs and veggie dogs, and a variety of educational activities for kids and adults. Enjoy live bluegrass music from the Fire Ants String Band as you dig in and help bring the prairie to life. Sign up here: https://www.coastalprairieconservancy.org/cpc-events/stewardship-saturday-sep9-94e76-8secn-g8w62-lnmz4-wrmls-8w5xz-cygs2-6cyh4-l8l5e-3cdlg-hkfb6-ptjh9-sfrx9-kj92n\n\Location:\nCoastal Prairie Conservancy\n31975 Hebert Road\nWaller, TX 77484
X-ALT-DESC;FMTTYPE=text/html:Coastal Prairie Conservancy's Putting Down Roots Festival<br /><br />11/08/25 09:00 AM CST - 11/08/25 01:00 PM CST<br />Description:<br /><p>Join the Coastal Prairie Conservancy for the Putting Down Roots Festival on Saturday, November 8th from 9 am - 1pm. Hundreds of volunteers will plant thousands of native plants to restore a full acre of prairie. This is a free, family-friendly event! They'll provide all planting supplies, free hot dogs and veggie dogs, and a variety of educational activities for kids and adults. Enjoy live bluegrass music from the Fire Ants String Band as you dig in and help bring the prairie to life. Sign up&nbsp;here: <a href="https://www.coastalprairieconservancy.org/cpc-events/stewardship-saturday-sep9-94e76-8secn-g8w62-lnmz4-wrmls-8w5xz-cygs2-6cyh4-l8l5e-3cdlg-hkfb6-ptjh9-sfrx9-kj92n">https://www.coastalprairieconservancy.org/cpc-events/stewardship-saturday-sep9-94e76-8secn-g8w62-lnmz4-wrmls-8w5xz-cygs2-6cyh4-l8l5e-3cdlg-hkfb6-ptjh9-sfrx9-kj92n</a></p>
<br />Location:<br />Coastal Prairie Conservancy<br />31975 Hebert Road<br />Waller, TX 77484
PRIORITY:3
TRANSP:TRANSPARENT
BEGIN:VALARM
TRIGGER:-PT5M
ACTION:DISPLAY
DESCRIPTION:Reminder
END:VALARM
END:VEVENT
END:VCALENDAR
